BEGIN:VCALENDAR
VERSION:2.0
PRODID:-//wp-events-plugin.com//7.2.3.1//EN
TZID:Europe/London
X-WR-TIMEZONE:Europe/London
BEGIN:VEVENT
UID:363@discoverburnley.co.uk
DTSTART;TZID=Europe/London:20241019T100000
DTEND;TZID=Europe/London:20241019T160000
DTSTAMP:20240902T154023Z
URL:https://discoverburnley.co.uk/whatson/world-anatomy-day/
SUMMARY:World Anatomy Day
DESCRIPTION:\n\n\nJoin us for World Anatomy Day at The University of Cent
 ral Lancashire\, Burnley Campus. This exciting event is designed for every
 one — from curious young ones to budding doctors to be. If you are a com
 munity group or family looking for a fun\, educational day out\, this is f
 or you.\n\n\n\n\n\n\nExplore the wonders of the human body through a varie
 ty of interactive activities:\n\n 	Anatomy in 3D: Get hands-on with pract
 ical models of muscles and organs. Find out why they are important and how
  they work by using our augmented reality tablets and 3D models.\n 	A Clos
 e-up Look: Visit our microscope station to examine real tissue and blood 
 samples. You will be able to use the microscopes to see the different type
 s of blood cells and learn what each one does.\n 	Brain Cap Model Station:
  Create your own wearable paper model of the brain while learning about it
 s different regions.\n 	Organ Tidy Up: Oh no\, all the organs have fallen 
 out of our cardboard models. Can you help us put each organ back in the ri
 ght place?\n 	The Modern Dissection Table: Interact with a detailed\, virt
 ual 3D model of the human body using our cutting-edge Anatomage Tables\, w
 hich we use to teach anatomy at university. Experience virtual dissection 
 and explore anatomy like never before.\n 	Building your own Skeleton: Ther
 e are lots of specialist bones in the body\, and there are even more types
  of pasta shapes. Here you get to make your own skeleton\, using different
  types of pasta to be the specific bones that are important in your body.\
 n\n\n
ATTACH;FMTTYPE=image/jpeg:https://discoverburnley.co.uk/wp-content/uploads
 /2024/09/DSC_7250_small.jpg
CATEGORIES:Community,Free To Attend,Kids and Families
LOCATION:University of Central Lancashire\, Victoria Mill\, Trafalgar Stree
 t\, Burnley\, Lancashire\, BB11 1RA\, North West\, United Kingdom
GEO:53.789076;-2.253691
X-APPLE-STRUCTURED-LOCATION;VALUE=URI;X-ADDRESS=Trafalgar Street\, Burnley\
 , Lancashire\, BB11 1RA\, North West\, United Kingdom;X-APPLE-RADIUS=100;X
 -TITLE=University of Central Lancashire\, Victoria Mill:geo:53.789076,-2.2
 53691
END:VEVENT
BEGIN:VTIMEZONE
TZID:Europe/London
X-LIC-LOCATION:Europe/London
BEGIN:DAYLIGHT
DTSTART:20240331T020000
TZOFFSETFROM:+0000
TZOFFSETTO:+0100
TZNAME:BST
END:DAYLIGHT
END:VTIMEZONE
END:VCALENDAR