BEGIN:VCALENDAR
VERSION:2.0
PRODID:-//wp-events-plugin.com//7.2.3.1//EN
TZID:Europe/London
X-WR-TIMEZONE:Europe/London
BEGIN:VEVENT
UID:951@discoverburnley.co.uk
DTSTART;TZID=Europe/London:20251101T190000
DTEND;TZID=Europe/London:20251101T235900
DTSTAMP:20250904T124906Z
URL:https://discoverburnley.co.uk/whatson/towneley-hall-halloween-fundrais
 er/
SUMMARY:Towneley Hall Halloween Fundraiser
DESCRIPTION:Towneley HALLoween Sleepover📅 Saturday 1st November 2025 | 
 📍 Towneley Hall\, Burnley\nDare to spend the night in Burnley’s histo
 ric Towneley Hall? Join us this Halloween for an exclusive overnight camp-
 out with spooky tours\, woodland walks\, scary screenings\, and more\, all
  while raising vital funds for local cancer screening\, recovery\, and reh
 abilitation support.\nTicket: £100 per duo + a commitment and willingness
  to try and raise an additional £400 in sponsorship per pair.Capacity: Li
 mited to 30 participants\nAll proceeds support Labels for Cares and Burnle
 y Leisure &amp\; Culture’s Health &amp\; Wellbeing Programmes.\nCan you 
 brave one scary night to make a real difference?
CATEGORIES:Other
LOCATION:Towneley Hall\, Towneley Holmes Road\, Towneley Park\, Burnley\, L
 ancashire\, BB11 3RQ\, United Kingdom
X-APPLE-STRUCTURED-LOCATION;VALUE=URI;X-ADDRESS=Towneley Holmes Road\, Town
 eley Park\, Burnley\, Lancashire\, BB11 3RQ\, United Kingdom;X-APPLE-RADIU
 S=100;X-TITLE=Towneley Hall:geo:0,0
END:VEVENT
BEGIN:VTIMEZONE
TZID:Europe/London
X-LIC-LOCATION:Europe/London
BEGIN:STANDARD
DTSTART:20251026T010000
TZOFFSETFROM:+0100
TZOFFSETTO:+0000
TZNAME:GMT
END:STANDARD
END:VTIMEZONE
END:VCALENDAR