BEGIN:VCALENDAR
VERSION:2.0
PRODID:-//wp-events-plugin.com//7.2.3.1//EN
TZID:Europe/London
X-WR-TIMEZONE:Europe/London
BEGIN:VEVENT
UID:415@discoverburnley.co.uk
DTSTART;TZID=Europe/London:20250221T193000
DTEND;TZID=Europe/London:20250221T220000
DTSTAMP:20241104T183534Z
URL:https://discoverburnley.co.uk/whatson/the-story-of-soul/
SUMMARY:The Story of Soul
DESCRIPTION:The latest hit show from Entertainers – the producers that br
 ought you The Magic of Motown and Lost in Music. Get ready as the cast tak
 e you on a journey of sweet soul music.\n\nJoin the Love Train\, as we giv
 e you the Best of Our Love and show you there Ain’t Nobody who does it b
 etter. Powerful performances from our talented cast will showcase the bigg
 est hits spanning a generation. Featuring songs by Aretha Franklin\, Earth
  Wind and Fire\, James Brown\, Wilson Pickett\, Sam and Dave\, Chaka Khan\
 , Tina Turner\, The Pointer Sisters\, Whitney Houston\, Ben E King\, Barry
  White and many\, many\, more. So\, make this the Night to Remember.\n\nGe
 t your tickets now\, for the must-see show of the year!\n\nTickets: £34\n
 \nhttps://burnleymechanics.ticketsolve.com/ticketbooth/shows/873661405
ATTACH;FMTTYPE=image/jpeg:https://discoverburnley.co.uk/wp-content/uploads
 /2024/11/TheStoryOfSoul-Square-Copy.jpg
CATEGORIES:Burnley Town Centre,Live Music
LOCATION:Burnley Mechanics Theatre\, Manchester Road\, Burnley\, Lancashire
 \, BB11 1BH\, United Kingdom
GEO:53.787787;-2.244038
X-APPLE-STRUCTURED-LOCATION;VALUE=URI;X-ADDRESS=Manchester Road\, Burnley\,
  Lancashire\, BB11 1BH\, United Kingdom;X-APPLE-RADIUS=100;X-TITLE=Burnley
  Mechanics Theatre:geo:53.787787,-2.244038
END:VEVENT
BEGIN:VTIMEZONE
TZID:Europe/London
X-LIC-LOCATION:Europe/London
BEGIN:STANDARD
DTSTART:20241027T010000
TZOFFSETFROM:+0100
TZOFFSETTO:+0000
TZNAME:GMT
END:STANDARD
END:VTIMEZONE
END:VCALENDAR