BEGIN:VCALENDAR
VERSION:2.0
PRODID:-//wp-events-plugin.com//7.2.3.1//EN
TZID:Europe/London
X-WR-TIMEZONE:Europe/London
BEGIN:VEVENT
UID:1188@discoverburnley.co.uk
DTSTART;TZID=Europe/London:20261024T143000
DTEND;TZID=Europe/London:20261024T170000
DTSTAMP:20260313T115330Z
URL:https://discoverburnley.co.uk/whatson/the-snow-queen/
SUMMARY:The Snow Queen
DESCRIPTION:Join Ballet Theatre UK in their beautiful re-telling of Hans Ch
 ristian Andersen’s classic fairytale ballet\, The Snow Queen.\n\nThis sp
 ectacular production follows the story of Gerda and her quest to find her 
 friend Kay\, whom the Snow Queen has placed under an evil spell.\n\nGerda
 ’s fantastic adventure takes her on a journey across the frozen north wh
 ere she encounters a band of gypsy’s\, enchanted reindeer and a mysterio
 us and reclusive Lapland woman. Gerda is told by the mysterious woman to c
 ontinue traveling north\, where she will find Kay and the Snow Queen’s P
 alace of Ice. Only Gerda’s love for Kay can release him from the spell a
 nd break the Snow Queen’s curse of eternal winter.\n\nBallet Theatre UK'
 s renowned company of international dancers\, beautiful costumes and glitt
 ering stage sets combine to create a magnificent spectacle\, all set to a 
 glorious and magical score.\n\n&nbsp\;\n\nTickets: £24 Adults / £22 Conc
 essions / £17 Under 16's\n\nhttps://burnleymechanics.ticketsolve.com/tick
 etbooth/shows/873683626
ATTACH;FMTTYPE=image/jpeg:https://discoverburnley.co.uk/wp-content/uploads
 /2026/03/Online-Image.jpeg
CATEGORIES:Burnley Town Centre,Theatre and Culture
LOCATION:Burnley Mechanics Theatre\, Manchester Road\, Burnley\, Lancashire
 \, BB11 1BH\, United Kingdom
GEO:53.787787;-2.244038
X-APPLE-STRUCTURED-LOCATION;VALUE=URI;X-ADDRESS=Manchester Road\, Burnley\,
  Lancashire\, BB11 1BH\, United Kingdom;X-APPLE-RADIUS=100;X-TITLE=Burnley
  Mechanics Theatre:geo:53.787787,-2.244038
END:VEVENT
BEGIN:VTIMEZONE
TZID:Europe/London
X-LIC-LOCATION:Europe/London
BEGIN:DAYLIGHT
DTSTART:20260329T020000
TZOFFSETFROM:+0000
TZOFFSETTO:+0100
TZNAME:BST
END:DAYLIGHT
END:VTIMEZONE
END:VCALENDAR