BEGIN:VCALENDAR
VERSION:2.0
PRODID:-//wp-events-plugin.com//7.2.3.1//EN
TZID:Europe/London
X-WR-TIMEZONE:Europe/London
BEGIN:VEVENT
UID:674@discoverburnley.co.uk
DTSTART;TZID=Europe/London:20250330T180000
DTEND;TZID=Europe/London:20250330T180000
DTSTAMP:20250320T185510Z
URL:https://discoverburnley.co.uk/whatson/the-royal-dyche-post-match-dj-ti
 ntin-2/
SUMMARY:The Royal Dyche - Mother's Day event
DESCRIPTION:\nWe have a very special performer on Mother's Day\nThe incredi
 ble Jess McGlinchey is back!\nJoin us on Sunday 30th March from 6pm\nFollo
 wed by DJ Kirley until close\nPlenty of special drinks offers at the bar\n
 \n
ATTACH;FMTTYPE=image/jpeg:https://discoverburnley.co.uk/wp-content/uploads
 /2025/03/Mothers-Day-2024-SQUARE-copy.jpg
CATEGORIES:Burnley Town Centre,Free To Attend,Live Music
LOCATION:The Royal Dyche\, Yorkshire Street\, Burnley\, United Kingdom
GEO:53.789131;-2.237188
X-APPLE-STRUCTURED-LOCATION;VALUE=URI;X-ADDRESS=Yorkshire Street\, Burnley\
 , United Kingdom;X-APPLE-RADIUS=100;X-TITLE=The Royal Dyche:geo:53.789131,
 -2.237188
END:VEVENT
BEGIN:VTIMEZONE
TZID:Europe/London
X-LIC-LOCATION:Europe/London
BEGIN:DAYLIGHT
DTSTART:20250330T020000
TZOFFSETFROM:+0000
TZOFFSETTO:+0100
TZNAME:BST
END:DAYLIGHT
END:VTIMEZONE
END:VCALENDAR