BEGIN:VCALENDAR
VERSION:2.0
PRODID:-//wp-events-plugin.com//7.2.3.1//EN
TZID:Europe/London
X-WR-TIMEZONE:Europe/London
BEGIN:VEVENT
UID:443@discoverburnley.co.uk
DTSTART;TZID=Europe/London:20250417T200000
DTEND;TZID=Europe/London:20250417T223000
DTSTAMP:20241107T230408Z
URL:https://discoverburnley.co.uk/whatson/the-kilkennys/
SUMMARY:The Kilkennys
DESCRIPTION:The Kilkennys are a traditional Irish folk and ballad band that
  are noted for their dynamic arrangements\, energetic performances and cha
 rismatic rapport with audiences across the globe.\n\nThe band was establis
 hed between schoolmates and began touring the length of Ireland in 1998. T
 he band are now based in South East Ireland and has evolved through the ye
 ars but are anchored by their founding members Davey Cashin\, Tommy Macke
 y\, Mick Martin and Josh O'Loughlin.\n\nSeeking to preserve their status f
 or re-introducing Irish folk and ballads to a young audience while capturi
 ng the hearts of more seasoned traditional music lover\, The Kilkennys emb
 ark on their new show featuring new material\, set to be released later in
  the year. The bands popularity continues to grow with every energy filled
 \, toe tapping and hand clapping night of entertainment. \n\nTickets: £2
 7\n\nhttps://burnleymechanics.ticketsolve.com/ticketbooth/shows/873665577
ATTACH;FMTTYPE=image/jpeg:https://discoverburnley.co.uk/wp-content/uploads
 /2024/11/The-Kilkennys-High-Res-68.JPG-1000x1500-1.jpg
CATEGORIES:Burnley Town Centre,Live Music
LOCATION:Burnley Mechanics Theatre\, Manchester Road\, Burnley\, Lancashire
 \, BB11 1BH\, United Kingdom
GEO:53.787787;-2.244038
X-APPLE-STRUCTURED-LOCATION;VALUE=URI;X-ADDRESS=Manchester Road\, Burnley\,
  Lancashire\, BB11 1BH\, United Kingdom;X-APPLE-RADIUS=100;X-TITLE=Burnley
  Mechanics Theatre:geo:53.787787,-2.244038
END:VEVENT
BEGIN:VTIMEZONE
TZID:Europe/London
X-LIC-LOCATION:Europe/London
BEGIN:DAYLIGHT
DTSTART:20250330T020000
TZOFFSETFROM:+0000
TZOFFSETTO:+0100
TZNAME:BST
END:DAYLIGHT
END:VTIMEZONE
END:VCALENDAR