BEGIN:VCALENDAR
VERSION:2.0
PRODID:-//wp-events-plugin.com//7.2.3.1//EN
TZID:Europe/London
X-WR-TIMEZONE:Europe/London
BEGIN:VEVENT
UID:1009@discoverburnley.co.uk
DTSTART;TZID=Europe/London:20251030T100000
DTEND;TZID=Europe/London:20251030T160000
DTSTAMP:20251006T073932Z
URL:https://discoverburnley.co.uk/whatson/the-cloak-of-spells-craft-worksh
 op/
SUMMARY:The Cloak of Spells - Craft Workshop
DESCRIPTION:The Cloak of Spells is a free drop-in craft workshop where part
 icipants are encouraged to celebrate a person in their life. This is done 
 by decorating a piece of cotton fabric with a creative task about that per
 son.\n\nThe patch is then added to the ‘Cloak of Spells’ which resembl
 es a Rag Jacket\, a common form of folk garment worn across the world. The
  Cloak acts as a celebration of love\, community and individuality\, and g
 rows with each workshop that takes place.\n\nThe workshop is part of an Ar
 ts Council funded outdoor dance theatre project ‘Pendle Witch’ that ex
 plores the story of the witch trials in Lancashire in 1612 and explores th
 e themes of community and non-conformity\, and expressed through a blend o
 f contemporary and folk dance.\n\nThis project is led by local performance
  artist Aimee Williamson. Aimee’s work spans across ballet\, contemporar
 y\, folkdance\, physical theatre and puppetry. She creates work for outdoo
 r spaces using inspiration from folklore\, nature and heritage.
ATTACH;FMTTYPE=image/jpeg:https://discoverburnley.co.uk/wp-content/uploads
 /2025/10/Screenshot-2025-10-03-132300.png
CATEGORIES:Arts and Crafts,Burnley Town Centre,Community,Free To
 Attend,Museums and Heritage,Rainy Day
LOCATION:Burnley Library\, Central Library Grimshaw Street\, Burnley\, Brit
 ain\, BB11 2BD\, United Kingdom
GEO:53.787778;-2.241557
X-APPLE-STRUCTURED-LOCATION;VALUE=URI;X-ADDRESS=Central Library Grimshaw St
 reet\, Burnley\, Britain\, BB11 2BD\, United Kingdom;X-APPLE-RADIUS=100;X-
 TITLE=Burnley Library:geo:53.787778,-2.241557
END:VEVENT
BEGIN:VTIMEZONE
TZID:Europe/London
X-LIC-LOCATION:Europe/London
BEGIN:STANDARD
DTSTART:20251026T010000
TZOFFSETFROM:+0100
TZOFFSETTO:+0000
TZNAME:GMT
END:STANDARD
END:VTIMEZONE
END:VCALENDAR