BEGIN:VCALENDAR
VERSION:2.0
PRODID:-//wp-events-plugin.com//7.2.3.1//EN
TZID:Europe/London
X-WR-TIMEZONE:Europe/London
BEGIN:VEVENT
UID:1252@discoverburnley.co.uk
DTSTART;TZID=Europe/London:20260502T110000
DTEND;TZID=Europe/London:20260502T120000
DTSTAMP:20260416T134449Z
URL:https://discoverburnley.co.uk/whatson/st-peters-saturday-morning-conce
 rts-6/
SUMMARY:St Peter's Saturday Morning Concerts
DESCRIPTION:Concert pianist\, Paul Greenhalgh\, makes a welcome return to S
 t Peter's Saturday morning concert series.\n\nHis programme includes well-
 known works by Beethoven\, Chopin and Debussy.\n\nAdmission is £7 (free f
 or U18s) with refreshments served from 10.30 a.m.\n\nFree parking in the s
 choolyard on Rawcliffe Street BB11 2DL and disabled parking in the church 
 grounds.\n\nPaul has kindly stepped in at short notice as Jill Crossland h
 as withdrawn owing to illness.
ATTACH;FMTTYPE=image/jpeg:https://discoverburnley.co.uk/wp-content/uploads
 /2026/04/IMG_5347-rotated.jpg
CATEGORIES:Burnley Town Centre,Live Music
LOCATION:St Peter's Church\, Church Street\, Burnley\, Lancashire\, BB11 2D
 L\, Lancashire\, United Kingdom
GEO:53.791643;-2.238833
X-APPLE-STRUCTURED-LOCATION;VALUE=URI;X-ADDRESS=Church Street\, Burnley\, L
 ancashire\, BB11 2DL\, Lancashire\, United Kingdom;X-APPLE-RADIUS=100;X-TI
 TLE=St Peter's Church:geo:53.791643,-2.238833
END:VEVENT
BEGIN:VTIMEZONE
TZID:Europe/London
X-LIC-LOCATION:Europe/London
BEGIN:DAYLIGHT
DTSTART:20260329T020000
TZOFFSETFROM:+0000
TZOFFSETTO:+0100
TZNAME:BST
END:DAYLIGHT
END:VTIMEZONE
END:VCALENDAR