BEGIN:VCALENDAR
VERSION:2.0
PRODID:-//wp-events-plugin.com//7.2.3.1//EN
TZID:Europe/London
X-WR-TIMEZONE:Europe/London
BEGIN:VEVENT
UID:274@discoverburnley.co.uk
DTSTART;TZID=Europe/London:20240525T110000
DTEND;TZID=Europe/London:20240525T130000
DTSTAMP:20240520T101148Z
URL:https://discoverburnley.co.uk/whatson/st-peters-church-saturday-mornin
 g-concerts/
SUMMARY:St Peter's Church Saturday Morning Concerts
DESCRIPTION:Talented musician Tom Hicks will stop off in Burnley on his whi
 stle stop world tour.\nAs part of St Peter's Church's Saturday morning con
 certs\, Tom will give a recital on May 25th  at 11a.m.\nThe programme wil
 l include pieces from the Romantic piano repertoire by Chopin\, Scriabin\,
  Debussy\, C. Shumann\, F. Hensel\, as well as a complete performance of B
 eethoven's Moonlight Sonata.\n\nTom is currently touring the USA\, Germany
  and the Channel Islands and two days before he arrives at St Peter's \, h
 e will give a recital and masterclass at Chethams School of Music.\n\nAdmi
 ssion to the concert is £7 and free for students and under 18s\, which in
 cludes refreshments from 10:30 a.m. and parking in the school yard at Rawc
 liffe Street.\n\nFellow pianist Ida Pellicciola will follow Tom with a rec
 ital at the church on Saturday\, July 6th.\nFor more information\, see ww
 w.stpetersburnley.com/music/saturday-morning-concerts\n\n\n\n\n
ATTACH;FMTTYPE=image/jpeg:https://discoverburnley.co.uk/wp-content/uploads
 /2024/05/Tom-Hicks.jpg
CATEGORIES:Theatre and Culture
LOCATION:St Peter's Church\, Church Street\, Burnley\, Lancashire\, BB11 2D
 L\, Lancashire\, United Kingdom
GEO:53.791643;-2.238833
X-APPLE-STRUCTURED-LOCATION;VALUE=URI;X-ADDRESS=Church Street\, Burnley\, L
 ancashire\, BB11 2DL\, Lancashire\, United Kingdom;X-APPLE-RADIUS=100;X-TI
 TLE=St Peter's Church:geo:53.791643,-2.238833
END:VEVENT
BEGIN:VTIMEZONE
TZID:Europe/London
X-LIC-LOCATION:Europe/London
BEGIN:DAYLIGHT
DTSTART:20240331T020000
TZOFFSETFROM:+0000
TZOFFSETTO:+0100
TZNAME:BST
END:DAYLIGHT
END:VTIMEZONE
END:VCALENDAR