BEGIN:VCALENDAR
VERSION:2.0
PRODID:-//wp-events-plugin.com//7.2.3.1//EN
TZID:Europe/London
X-WR-TIMEZONE:Europe/London
BEGIN:VEVENT
UID:1233@discoverburnley.co.uk
DTSTART;TZID=Europe/London:20260423T180000
DTEND;TZID=Europe/London:20260423T234500
DTSTAMP:20260331T151057Z
URL:https://discoverburnley.co.uk/whatson/st-georges-day/
SUMMARY:ST GEORGE'S DAY
DESCRIPTION:ST GEORGE'S DAY\nThursday 23rd April\nWe are so excited to w
 elcome back Old Habits\nIan McSherry will be leading the celebrations with
  some serious classic rock anthems from 7pm\nA fantastic entertaining band
 \nPlus free homemade corn beef hash for all\nRed and white colours is the 
 dress code\nAnd it's Happy Hour 6pm until 7pm 
ATTACH;FMTTYPE=image/jpeg:https://discoverburnley.co.uk/wp-content/uploads
 /2026/03/ge.jpg
CATEGORIES:Burnley Town Centre,Community,Free To Attend,Live Music
LOCATION:The Royal Dyche\, Yorkshire Street\, Burnley\, United Kingdom
GEO:53.789131;-2.237188
X-APPLE-STRUCTURED-LOCATION;VALUE=URI;X-ADDRESS=Yorkshire Street\, Burnley\
 , United Kingdom;X-APPLE-RADIUS=100;X-TITLE=The Royal Dyche:geo:53.789131,
 -2.237188
END:VEVENT
BEGIN:VTIMEZONE
TZID:Europe/London
X-LIC-LOCATION:Europe/London
BEGIN:DAYLIGHT
DTSTART:20260329T020000
TZOFFSETFROM:+0000
TZOFFSETTO:+0100
TZNAME:BST
END:DAYLIGHT
END:VTIMEZONE
END:VCALENDAR