BEGIN:VCALENDAR
VERSION:2.0
PRODID:-//wp-events-plugin.com//7.2.3.1//EN
TZID:Europe/London
X-WR-TIMEZONE:Europe/London
BEGIN:VEVENT
UID:1200@discoverburnley.co.uk
DTSTART;TZID=Europe/London:20260731T193000
DTEND;TZID=Europe/London:20260731T220000
DTSTAMP:20260313T115445Z
URL:https://discoverburnley.co.uk/whatson/simon-brodkin/
SUMMARY:Simon Brodkin
DESCRIPTION:\n\nHot off the back of his smash hit UK tour\, and three incre
 dible\, sold-out nights at London’s Hammersmith Apollo\, Simon Brodkin i
 s back and better than ever!\n\nFrom the unique comedy mind that brought y
 ou Lee Nelson and Theresa May’s P45\, comes brand new material you won
 ’t want to miss.\n\n\n \nTickets: £27 Age restrictions: 14+\nhttps://
 burnleymechanics.ticketsolve.com/ticketbooth/shows/873683757
ATTACH;FMTTYPE=image/jpeg:https://discoverburnley.co.uk/wp-content/uploads
 /2026/03/1080x1080-2.png
CATEGORIES:Burnley Town Centre,Theatre and Culture
LOCATION:Burnley Mechanics Theatre\, Manchester Road\, Burnley\, Lancashire
 \, BB11 1BH\, United Kingdom
GEO:53.787787;-2.244038
X-APPLE-STRUCTURED-LOCATION;VALUE=URI;X-ADDRESS=Manchester Road\, Burnley\,
  Lancashire\, BB11 1BH\, United Kingdom;X-APPLE-RADIUS=100;X-TITLE=Burnley
  Mechanics Theatre:geo:53.787787,-2.244038
END:VEVENT
BEGIN:VTIMEZONE
TZID:Europe/London
X-LIC-LOCATION:Europe/London
BEGIN:DAYLIGHT
DTSTART:20260329T020000
TZOFFSETFROM:+0000
TZOFFSETTO:+0100
TZNAME:BST
END:DAYLIGHT
END:VTIMEZONE
END:VCALENDAR