BEGIN:VCALENDAR
VERSION:2.0
PRODID:-//wp-events-plugin.com//7.2.3.1//EN
TZID:Europe/London
X-WR-TIMEZONE:Europe/London
BEGIN:VEVENT
UID:1253@discoverburnley.co.uk
DTSTART;TZID=Europe/London:20261016T200000
DTEND;TZID=Europe/London:20261016T223000
DTSTAMP:20260421T102824Z
URL:https://discoverburnley.co.uk/whatson/seann-walsh-this-is-torture/
SUMMARY:Seann Walsh: This is Torture
DESCRIPTION:After his sell-out 2023 tour\, the UK’s dishevelled king of s
 tand-up\, award-winning Seann Walsh returns with a brand-new hour of side-
 splitting comedy. Don’t miss his trademark high-energy exasperation and 
 razor-sharp observations that leave audiences in stitches and on their fee
 t all around the country. This year\, he’s decided to name the show afte
 r the thing he says the most in life - THIS IS TORTURE.\n\n'Unquestionably
  the best observational comic of his generation' - The Guardian\n\n'A cra
 cking good show' - The Telegraph\n\n'One of comedy’s hottest properties
 ... very talented\, very funny' - The Evening Standard\n\n'He remains one
  of the most entertaining observational comics on the block' - The Indepe
 ndent\n\nAge Guidance: Strictly 14+ - likely to be swearing and adult cont
 ent.\n\nTickets: £20 \n\nhttps://burnleymechanics.ticketsolve.com/ticket
 booth/shows/873684900\n\n&nbsp\;
ATTACH;FMTTYPE=image/jpeg:https://discoverburnley.co.uk/wp-content/uploads
 /2026/04/SW_ThisIsTorture_1080x1350.jpg
CATEGORIES:Burnley Town Centre,Theatre and Culture
LOCATION:Burnley Mechanics Theatre\, Manchester Road\, Burnley\, Lancashire
 \, BB11 1BH\, United Kingdom
GEO:53.787787;-2.244038
X-APPLE-STRUCTURED-LOCATION;VALUE=URI;X-ADDRESS=Manchester Road\, Burnley\,
  Lancashire\, BB11 1BH\, United Kingdom;X-APPLE-RADIUS=100;X-TITLE=Burnley
  Mechanics Theatre:geo:53.787787,-2.244038
END:VEVENT
BEGIN:VTIMEZONE
TZID:Europe/London
X-LIC-LOCATION:Europe/London
BEGIN:DAYLIGHT
DTSTART:20260329T020000
TZOFFSETFROM:+0000
TZOFFSETTO:+0100
TZNAME:BST
END:DAYLIGHT
END:VTIMEZONE
END:VCALENDAR