BEGIN:VCALENDAR
VERSION:2.0
PRODID:-//wp-events-plugin.com//7.2.3.1//EN
TZID:Europe/London
X-WR-TIMEZONE:Europe/London
BEGIN:VEVENT
UID:1239@discoverburnley.co.uk
DTSTART;TZID=Europe/London:20260523T190000
DTEND;TZID=Europe/London:20260523T234500
DTSTAMP:20260331T151324Z
URL:https://discoverburnley.co.uk/whatson/saturday-night-bangers/
SUMMARY:SATURDAY NIGHT BANGERS
DESCRIPTION:SATURDAY NIGHT BANGERS\nSaturday 23rd May 7pm\nDJ Kirley wil
 l be taking over\nPlaying all the very best crowd pleasing classics\nFree 
 entry all night | Strictly over 18's\nSee you on the dancefloor!
ATTACH;FMTTYPE=image/jpeg:https://discoverburnley.co.uk/wp-content/uploads
 /2026/03/kirley.jpg
CATEGORIES:Burnley Town Centre,Community,Free To Attend,Live Music
LOCATION:The Royal Dyche\, Yorkshire Street\, Burnley\, United Kingdom
GEO:53.789131;-2.237188
X-APPLE-STRUCTURED-LOCATION;VALUE=URI;X-ADDRESS=Yorkshire Street\, Burnley\
 , United Kingdom;X-APPLE-RADIUS=100;X-TITLE=The Royal Dyche:geo:53.789131,
 -2.237188
END:VEVENT
BEGIN:VTIMEZONE
TZID:Europe/London
X-LIC-LOCATION:Europe/London
BEGIN:DAYLIGHT
DTSTART:20260329T020000
TZOFFSETFROM:+0000
TZOFFSETTO:+0100
TZNAME:BST
END:DAYLIGHT
END:VTIMEZONE
END:VCALENDAR