BEGIN:VCALENDAR
VERSION:2.0
PRODID:-//wp-events-plugin.com//7.2.3.1//EN
TZID:Europe/London
X-WR-TIMEZONE:Europe/London
BEGIN:VEVENT
UID:1068@discoverburnley.co.uk
DTSTART;TZID=Europe/London:20260618T183000
DTEND;TZID=Europe/London:20260618T200000
DTSTAMP:20251107T104635Z
URL:https://discoverburnley.co.uk/whatson/presentation-ladies-of-leisure-b
 y-history-wardrobe/
SUMMARY:Presentation: Ladies of Leisure by History Wardrobe
DESCRIPTION:A delightful talk exploring pleasures and pastimes in Jane Aust
 en’s era\, featuring marvellous original fashions and lively readings fr
 om Austen’s novels.\n\nDo you fancy a spot of Regency cricket? Or is lol
 ling on the sofa more your thing?\n\nThis delightful talk from History War
 drobe explores pleasures and pastimes in Jane Austen’s era\, from amblin
 g in the shrubbery to enchanting embroidery. Historian Lucy Adlington will
  showcase marvellous original fashions for sport and dancing along with am
 using readings from Austen’s novels. Lucy Adlington brings textiles and 
 fashion through the ages to life with her joyful\, fact-filled and inimita
 ble presentation style.\n\nPlease note this event is in the Nursery on sec
 ond floor of Gawthorpe Hall\, accessed by the main staircase. Due to the h
 istoric nature of the building\, there is no lift.\n\n£15 per person\, bo
 oking required (includes glass of wine). Please click here for booking lin
 k.
ATTACH;FMTTYPE=image/jpeg:https://discoverburnley.co.uk/wp-content/uploads
 /2025/11/Gaw-History-Wardrobe-2026-Dis-Burn.jpg
CATEGORIES:Museums and Heritage
LOCATION:Gawthorpe Hall\, Burnley\, Habergham Drive\, Burnley\, Lancashire\
 , BB12 8UA\, United Kingdom
GEO:53.802589;-2.294668
X-APPLE-STRUCTURED-LOCATION;VALUE=URI;X-ADDRESS=Habergham Drive\, Burnley\,
  Lancashire\, BB12 8UA\, United Kingdom;X-APPLE-RADIUS=100;X-TITLE=Gawthor
 pe Hall\, Burnley:geo:53.802589,-2.294668
END:VEVENT
BEGIN:VTIMEZONE
TZID:Europe/London
X-LIC-LOCATION:Europe/London
BEGIN:DAYLIGHT
DTSTART:20260329T020000
TZOFFSETFROM:+0000
TZOFFSETTO:+0100
TZNAME:BST
END:DAYLIGHT
END:VTIMEZONE
END:VCALENDAR