BEGIN:VCALENDAR
VERSION:2.0
PRODID:-//wp-events-plugin.com//7.2.3.1//EN
TZID:Europe/London
X-WR-TIMEZONE:Europe/London
BEGIN:VEVENT
UID:946@discoverburnley.co.uk
DTSTART;TZID=Europe/London:20250920T120000
DTEND;TZID=Europe/London:20250920T160000
DTSTAMP:20250822T134438Z
URL:https://discoverburnley.co.uk/whatson/onetwothree/
SUMMARY:ONETWOTHREE
DESCRIPTION:A new art space in Burnley!\nRenovated with National Lottery He
 ritage\nFunding\, come and explore our building\nand find out more about t
 he past whilst we\ntell you about our plans for the future.\nkaren@karengr
 een.info\nwww.creativespacesburnley.co.uk
ATTACH;FMTTYPE=image/jpeg:https://discoverburnley.co.uk/wp-content/uploads
 /2025/08/Screenshot-2025-08-21-104622-12.png
CATEGORIES:Arts and Crafts,Burnley Town Centre,Community,Kids and
 Families,Rainy Day
LOCATION:ONETWOTHREE\, 123 St James Street\, Burnley\, Britain\, BB11 1PP\,
  United Kingdom
X-APPLE-STRUCTURED-LOCATION;VALUE=URI;X-ADDRESS=123 St James Street\, Burnl
 ey\, Britain\, BB11 1PP\, United Kingdom;X-APPLE-RADIUS=100;X-TITLE=ONETWO
 THREE:geo:0,0
END:VEVENT
BEGIN:VTIMEZONE
TZID:Europe/London
X-LIC-LOCATION:Europe/London
BEGIN:DAYLIGHT
DTSTART:20250330T020000
TZOFFSETFROM:+0000
TZOFFSETTO:+0100
TZNAME:BST
END:DAYLIGHT
END:VTIMEZONE
END:VCALENDAR