BEGIN:VCALENDAR
VERSION:2.0
PRODID:-//wp-events-plugin.com//7.2.3.1//EN
TZID:Europe/London
X-WR-TIMEZONE:Europe/London
BEGIN:VEVENT
UID:1098@discoverburnley.co.uk
DTSTART;TZID=Europe/London:20261015T193000
DTEND;TZID=Europe/London:20261015T220000
DTSTAMP:20251208T081509Z
URL:https://discoverburnley.co.uk/whatson/one-night-of-billy-joel-with-bil
 ly-the-kid/
SUMMARY:One Night of Billy Joel with Billy the Kid
DESCRIPTION:The ultimate celebration concert to one of the most iconic and 
 best-selling artists of all time. In this brand-new touring theatre show R
 obert Schmuck (Billy The Kid) and his amazing 7 piece band perform breath-
 taking musical arrangements of multi-million selling songs such as ‘My 
 Life’\, ‘Uptown Girl’\, ‘River Of Dreams’\, ‘Tell Her About It
  ‘\, ‘Still Rock n Roll To Me’\, ‘An Innocent Man’\, ‘Movin Ou
 t’\, ‘Just The Way You Are’\, ‘We Didn’t Start The Fire’\, ‘
 Piano Man’\, ‘The Longest Time’ and many\, many more\, it’s a non
 -stop hits show!\n\nTickets: £30.50\n\nhttps://burnleymechanics.ticketsol
 ve.com/ticketbooth/shows/873680470
ATTACH;FMTTYPE=image/jpeg:https://discoverburnley.co.uk/wp-content/uploads
 /2025/12/billy-1080-x-1080.jpg
CATEGORIES:Burnley Town Centre,Theatre and Culture
LOCATION:Burnley Mechanics Theatre\, Manchester Road\, Burnley\, Lancashire
 \, BB11 1BH\, United Kingdom
GEO:53.787787;-2.244038
X-APPLE-STRUCTURED-LOCATION;VALUE=URI;X-ADDRESS=Manchester Road\, Burnley\,
  Lancashire\, BB11 1BH\, United Kingdom;X-APPLE-RADIUS=100;X-TITLE=Burnley
  Mechanics Theatre:geo:53.787787,-2.244038
END:VEVENT
BEGIN:VTIMEZONE
TZID:Europe/London
X-LIC-LOCATION:Europe/London
BEGIN:DAYLIGHT
DTSTART:20260329T020000
TZOFFSETFROM:+0000
TZOFFSETTO:+0100
TZNAME:BST
END:DAYLIGHT
END:VTIMEZONE
END:VCALENDAR