BEGIN:VCALENDAR
VERSION:2.0
PRODID:-//wp-events-plugin.com//7.2.3.1//EN
TZID:Europe/London
X-WR-TIMEZONE:Europe/London
BEGIN:VEVENT
UID:1237@discoverburnley.co.uk
DTSTART;TZID=Europe/London:20260509T170000
DTEND;TZID=Europe/London:20260509T234500
DTSTAMP:20260331T151218Z
URL:https://discoverburnley.co.uk/whatson/nostalgia-vibes/
SUMMARY:NOSTALGIA VIBES
DESCRIPTION:NOSTALGIA VIBES\nDJ Scotty Boy is back on the decks\nSaturday 
 9th May 5pm\nJoin us after the Burnley v Aston Villa match\nNostalgia vib
 es on our outdoor beer garden stage\nTunes you cannot resist but get up an
 d dance to!\nFree entry all night | Strictly over 18's
ATTACH;FMTTYPE=image/jpeg:https://discoverburnley.co.uk/wp-content/uploads
 /2026/03/scat.jpg
CATEGORIES:Burnley Town Centre,Community,Live Music
LOCATION:The Royal Dyche\, Yorkshire Street\, Burnley\, United Kingdom
GEO:53.789131;-2.237188
X-APPLE-STRUCTURED-LOCATION;VALUE=URI;X-ADDRESS=Yorkshire Street\, Burnley\
 , United Kingdom;X-APPLE-RADIUS=100;X-TITLE=The Royal Dyche:geo:53.789131,
 -2.237188
END:VEVENT
BEGIN:VTIMEZONE
TZID:Europe/London
X-LIC-LOCATION:Europe/London
BEGIN:DAYLIGHT
DTSTART:20260329T020000
TZOFFSETFROM:+0000
TZOFFSETTO:+0100
TZNAME:BST
END:DAYLIGHT
END:VTIMEZONE
END:VCALENDAR