BEGIN:VCALENDAR
VERSION:2.0
PRODID:-//wp-events-plugin.com//7.2.3.1//EN
TZID:Europe/London
X-WR-TIMEZONE:Europe/London
BEGIN:VEVENT
UID:1184@discoverburnley.co.uk
DTSTART;TZID=Europe/London:20260621T170000
DTEND;TZID=Europe/London:20260621T193000
DTSTAMP:20260313T115313Z
URL:https://discoverburnley.co.uk/whatson/northern-live-3/
SUMMARY:Northern Live
DESCRIPTION:Keeping the Faith to the original sounds of the underground mov
 ement that started on the dance floors in the North and eventually swept t
 he Nation including an 11-piece band with 4 lead vocalists performing over
  30 original hits\, expect to hear:\n\nDobie Gray - “Out On The Floor”
 \, R Dean Taylor - “There’s A Ghost In My House”\, Frank Wilson - 
 “Do I love You - Indeed I Do”\, Gloria Jones - “Tainted Love”\, Al
  Wilson - “The Snake”\, Yvonne Baker - “You Didn’t Say A Word”\,
  Jimmy Radcliffe - “Long After Tonight Is Over”\, Garnet Mimms- “Lo
 oking For You”\, Dean Parrish - “I’m On My Way” and many\, many mo
 re.\n\nTickets: £29\n\nhttps://burnleymechanics.ticketsolve.com/ticketboo
 th/shows/873674547\n\n&nbsp\;
ATTACH;FMTTYPE=image/jpeg:https://discoverburnley.co.uk/wp-content/uploads
 /2026/03/New-Northern-1080-x-1080-title-treatment.jpg
LOCATION:Burnley Mechanics Theatre\, Manchester Road\, Burnley\, Lancashire
 \, BB11 1BH\, United Kingdom
GEO:53.787787;-2.244038
X-APPLE-STRUCTURED-LOCATION;VALUE=URI;X-ADDRESS=Manchester Road\, Burnley\,
  Lancashire\, BB11 1BH\, United Kingdom;X-APPLE-RADIUS=100;X-TITLE=Burnley
  Mechanics Theatre:geo:53.787787,-2.244038
END:VEVENT
BEGIN:VTIMEZONE
TZID:Europe/London
X-LIC-LOCATION:Europe/London
BEGIN:DAYLIGHT
DTSTART:20260329T020000
TZOFFSETFROM:+0000
TZOFFSETTO:+0100
TZNAME:BST
END:DAYLIGHT
END:VTIMEZONE
END:VCALENDAR