BEGIN:VCALENDAR
VERSION:2.0
PRODID:-//wp-events-plugin.com//7.2.3.1//EN
TZID:Europe/London
X-WR-TIMEZONE:Europe/London
BEGIN:VEVENT
UID:799@discoverburnley.co.uk
DTSTART;TZID=Europe/London:20260301T170000
DTEND;TZID=Europe/London:20260301T193000
DTSTAMP:20250618T134915Z
URL:https://discoverburnley.co.uk/whatson/northern-live-2/
SUMMARY:Northern Live
DESCRIPTION:Northern Live - Do I Love You\n\nKeeping the Faith to the origi
 nal sounds of the underground movement that started on the dance floors in
  the North and eventually swept the Nation including an 11-piece band with
  4 lead vocalists performing over 30 original hits\, expect to hear:\n\nDo
 bie Gray - “Out On The Floor”\, R Dean Taylor - “There’s A Ghost I
 n My House”\, Frank Wilson - “Do I love You - Indeed I Do”\, Gloria 
 Jones - “Tainted Love”\, Al Wilson - “The Snake”\, Yvonne Baker - 
 “You Didn’t Say A Word”\,\n\nJimmy Radcliffe - “Long After Tonight
  Is Over”\, Garnet Mimms- “Looking For You”\, Dean Parrish - “I’
 m On My Way” and many\, many more.\n\nTickets: £29\n\nhttps://burnleyme
 chanics.ticketsolve.com/ticketbooth/shows/873674547
ATTACH;FMTTYPE=image/jpeg:https://discoverburnley.co.uk/wp-content/uploads
 /2025/06/New-Northern-1080-x-1080.jpg
CATEGORIES:Burnley Town Centre,Live Music
LOCATION:Burnley Mechanics Theatre\, Manchester Road\, Burnley\, Lancashire
 \, BB11 1BH\, United Kingdom
GEO:53.787787;-2.244038
X-APPLE-STRUCTURED-LOCATION;VALUE=URI;X-ADDRESS=Manchester Road\, Burnley\,
  Lancashire\, BB11 1BH\, United Kingdom;X-APPLE-RADIUS=100;X-TITLE=Burnley
  Mechanics Theatre:geo:53.787787,-2.244038
END:VEVENT
BEGIN:VTIMEZONE
TZID:Europe/London
X-LIC-LOCATION:Europe/London
BEGIN:STANDARD
DTSTART:20251026T010000
TZOFFSETFROM:+0100
TZOFFSETTO:+0000
TZNAME:GMT
END:STANDARD
END:VTIMEZONE
END:VCALENDAR