BEGIN:VCALENDAR
VERSION:2.0
PRODID:-//wp-events-plugin.com//7.2.3.1//EN
TZID:Europe/London
X-WR-TIMEZONE:Europe/London
BEGIN:VEVENT
UID:1165@discoverburnley.co.uk
DTSTART;TZID=Europe/London:20260618T143000
DTEND;TZID=Europe/London:20260618T160000
DTSTAMP:20260211T153604Z
URL:https://discoverburnley.co.uk/whatson/ms-rachel-fun-for-little-ones-tr
 ibute-tour/
SUMMARY:Ms. Rachel - Fun for Little Ones Tribute Tour
DESCRIPTION:Get ready for singing\, dancing\, giggles and non-stop fun as t
 he magic of Ms Rachel comes to life on stage in an interactive\, high-ener
 gy live tribute performance made just just for little ones and their grown
 ups! With over 10 billion views and 15 million YouTube subscribers\, Ms Ra
 chel is the viral superstar capturing hearts across the world — and now\
 , your little ones can experience this FUN\, interactive LIVE on stage per
 formance!\n\n\nFun for Little Ones Live is the UK’s only tribute show of
  its kind\, bursting with:\n\n●    Lively sing-alongs and engaging so
 ngs\n\n●    LIVE ON STAGE Ms Rachel Tribute &amp\; her dancing friend
 s!\n\n●    Puppets\, characters\, and colourful on-screen animations\
 n\n●    Audience participation and educational moments\n\n●    M
 agical screen content with Monty &amp\; Friends\n\nWhether they’re clapp
 ing\, dancing\, or singing their hearts out\, children will be enchanted f
 rom start to finish! Don’t miss your chance to be part of the excitemen
 t — families across the UK are raving\, and little fans are going wild!\
 n\nBook your tickets now – it's the show every toddler (and their grown-
 up) is talking about!\n\nTickets: £22 - Babes in arms (under 2s) may acc
 ompany adults free of charge however no seat will be allocated. Any child 
 requiring a seat will need a ticket purchasing.\n\nhttps://burnleymechanic
 s.ticketsolve.com/ticketbooth/shows/873683045\n\n&nbsp\;\n\n&nbsp\;
ATTACH;FMTTYPE=image/jpeg:https://discoverburnley.co.uk/wp-content/uploads
 /2026/02/FUN-FOR-LITTLE-ONES-SQUARE.jpg
CATEGORIES:Burnley Town Centre,Theatre and Culture
LOCATION:Burnley Mechanics Theatre\, Manchester Road\, Burnley\, Lancashire
 \, BB11 1BH\, United Kingdom
GEO:53.787787;-2.244038
X-APPLE-STRUCTURED-LOCATION;VALUE=URI;X-ADDRESS=Manchester Road\, Burnley\,
  Lancashire\, BB11 1BH\, United Kingdom;X-APPLE-RADIUS=100;X-TITLE=Burnley
  Mechanics Theatre:geo:53.787787,-2.244038
END:VEVENT
BEGIN:VTIMEZONE
TZID:Europe/London
X-LIC-LOCATION:Europe/London
BEGIN:DAYLIGHT
DTSTART:20260329T020000
TZOFFSETFROM:+0000
TZOFFSETTO:+0100
TZNAME:BST
END:DAYLIGHT
END:VTIMEZONE
END:VCALENDAR