BEGIN:VCALENDAR
VERSION:2.0
PRODID:-//wp-events-plugin.com//7.2.3.1//EN
TZID:Europe/London
X-WR-TIMEZONE:Europe/London
BEGIN:VEVENT
UID:458@discoverburnley.co.uk
DTSTART;TZID=Europe/London:20241223T110000
DTEND;TZID=Europe/London:20241223T160000
DTSTAMP:20241107T232655Z
URL:https://discoverburnley.co.uk/whatson/monday-23rd-december-holly-and-i
 vy/
SUMMARY:Monday 23rd  December – Holly and Ivy
DESCRIPTION:Monday 23rd  December – Holly and Ivy -  Various appearance
 s throughout the day from 11am until 4pm\n\nHolly and Ivy\, the magical Ch
 ristmas fairies\, live inside their very own enchanted Christmas trees. Th
 ey are eager to pass on all their Festive expertise from tree-dressing tip
 s to schmoozing with your in-laws after Christmas dinner! Make sure you gr
 ab your photo with this hilarious pair as they entertain you whilst roamin
 g the centre trying to take the stress out of the busiest Monday of the ye
 ar!
ATTACH;FMTTYPE=image/jpeg:https://discoverburnley.co.uk/wp-content/uploads
 /2024/11/Holly-and-Ivy.jpg
CATEGORIES:Burnley Town Centre,Free To Attend,Kids and Families
LOCATION:Charter Walk Shopping Centre\, St James Street\, Burnley\, BB11 1P
 Y\, United Kingdom
X-APPLE-STRUCTURED-LOCATION;VALUE=URI;X-ADDRESS=St James Street\, Burnley\,
  BB11 1PY\, United Kingdom;X-APPLE-RADIUS=100;X-TITLE=Charter Walk Shoppin
 g Centre:geo:0,0
END:VEVENT
BEGIN:VTIMEZONE
TZID:Europe/London
X-LIC-LOCATION:Europe/London
BEGIN:STANDARD
DTSTART:20241027T010000
TZOFFSETFROM:+0100
TZOFFSETTO:+0000
TZNAME:GMT
END:STANDARD
END:VTIMEZONE
END:VCALENDAR