BEGIN:VCALENDAR
VERSION:2.0
PRODID:-//wp-events-plugin.com//7.2.3.1//EN
TZID:Europe/London
X-WR-TIMEZONE:Europe/London
BEGIN:VEVENT
UID:1234@discoverburnley.co.uk
DTSTART;TZID=Europe/London:20260425T190000
DTEND;TZID=Europe/London:20260425T234500
DTSTAMP:20260401T135520Z
URL:https://discoverburnley.co.uk/whatson/meleon-on-the-decks/
SUMMARY:MELEON ON THE DECKS
DESCRIPTION:Leon Akbar is back on the decks\nJoin us Saturday 25th April\nP
 otentially after Burnley v Man City (depending on Sky!)\nHe'll be bringing
  all those dancefloor fillers all night\nHouse / Dance Classics / Old Skoo
 l\nStrictly Over 18's and free admission
ATTACH;FMTTYPE=image/jpeg:https://discoverburnley.co.uk/wp-content/uploads
 /2026/03/25.jpg
CATEGORIES:Burnley Town Centre,Community,Live Music
LOCATION:The Royal Dyche\, Yorkshire Street\, Burnley\, United Kingdom
GEO:53.789131;-2.237188
X-APPLE-STRUCTURED-LOCATION;VALUE=URI;X-ADDRESS=Yorkshire Street\, Burnley\
 , United Kingdom;X-APPLE-RADIUS=100;X-TITLE=The Royal Dyche:geo:53.789131,
 -2.237188
END:VEVENT
BEGIN:VTIMEZONE
TZID:Europe/London
X-LIC-LOCATION:Europe/London
BEGIN:DAYLIGHT
DTSTART:20260329T020000
TZOFFSETFROM:+0000
TZOFFSETTO:+0100
TZNAME:BST
END:DAYLIGHT
END:VTIMEZONE
END:VCALENDAR