BEGIN:VCALENDAR
VERSION:2.0
PRODID:-//wp-events-plugin.com//7.2.3.1//EN
TZID:Europe/London
X-WR-TIMEZONE:Europe/London
BEGIN:VEVENT
UID:1236@discoverburnley.co.uk
DTSTART;TZID=Europe/London:20260502T160000
DTEND;TZID=Europe/London:20260502T223000
DTSTAMP:20260331T151154Z
URL:https://discoverburnley.co.uk/whatson/may-bank-holiday-weekend/
SUMMARY:MAY BANK HOLIDAY WEEKEND
DESCRIPTION:MAY BANK HOLIDAY WEEKEND\nSaturday 2nd May\nMeLeon vs Yonic\n&n
 bsp\;\nSunday 3rd May\nKeefy vs LP\n&nbsp\;\nA weekend packed full of loca
 l DJ's\n#BurnleyLive
ATTACH;FMTTYPE=image/jpeg:https://discoverburnley.co.uk/wp-content/uploads
 /2026/03/llll.png
CATEGORIES:Burnley Town Centre,Community,Live Music
LOCATION:The Royal Dyche\, Yorkshire Street\, Burnley\, United Kingdom
X-APPLE-STRUCTURED-LOCATION;VALUE=URI;X-ADDRESS=Yorkshire Street\, Burnley\
 , United Kingdom;X-APPLE-RADIUS=100;X-TITLE=The Royal Dyche:geo:0,0
END:VEVENT
BEGIN:VTIMEZONE
TZID:Europe/London
X-LIC-LOCATION:Europe/London
BEGIN:DAYLIGHT
DTSTART:20260329T020000
TZOFFSETFROM:+0000
TZOFFSETTO:+0100
TZNAME:BST
END:DAYLIGHT
END:VTIMEZONE
END:VCALENDAR