BEGIN:VCALENDAR
VERSION:2.0
PRODID:-//wp-events-plugin.com//7.2.3.1//EN
TZID:Europe/London
X-WR-TIMEZONE:Europe/London
BEGIN:VEVENT
UID:522@discoverburnley.co.uk
DTSTART;TZID=Europe/London:20251009T193000
DTEND;TZID=Europe/London:20251009T220000
DTSTAMP:20250108T165946Z
URL:https://discoverburnley.co.uk/whatson/louis-elvis-for-everyone/
SUMMARY:Louis -  Elvis for Everyone
DESCRIPTION:Come and witness the closest experience to watching the King of
  Rock 'n' Roll yourself as Multi Award Winning Elvis Tribute Artist Louis 
 Brown and his “Tribute To Elvis" Live Band\, brings you all the electrif
 ying magic of Elvis Presley!\n\nSee how Elvis rose to fame as Louis perfor
 ms all the biggest hits from 1956 when Elvis first hit stardom. Louis then
  takes you to Hollywood and on set of Elvis' movie career\, performing the
  best songs from all of Elvis' greatest movies!\n\nRecreating part of the 
 ’68 comeback special\, Louis will grace you with the iconic leather two-
 piece suit giving you all the electrifying energy of the NBC T.V special.\
 n\nYou will then witness Louis take on the Vegas years where Elvis was dyn
 amic\, charismatic and simply outstanding. Performing the songs from 1969 
 to 1971\, with his uncanny portrayal of the King\, you will witness the be
 st Elvis Experience that you could ever hope for!\n\n“Louis - Elvis For 
 Everyone” - Internationally acclaimed tribute to Elvis Presley\, with in
 credible vocals\, accurate dance moves\, unbelievable Presley-like charism
 a\, and multiple sell-out tours across the world will leave you desperate 
 to see more and completely mesmerised.\n\nTickets: £27\n\nhttps://burnley
 mechanics.ticketsolve.com/ticketbooth/shows/873667965
ATTACH;FMTTYPE=image/jpeg:https://discoverburnley.co.uk/wp-content/uploads
 /2024/12/burnley-mechanics-poster.png
CATEGORIES:Burnley Town Centre,Live Music
LOCATION:Burnley Mechanics Theatre\, Manchester Road\, Burnley\, Lancashire
 \, BB11 1BH\, United Kingdom
GEO:53.787787;-2.244038
X-APPLE-STRUCTURED-LOCATION;VALUE=URI;X-ADDRESS=Manchester Road\, Burnley\,
  Lancashire\, BB11 1BH\, United Kingdom;X-APPLE-RADIUS=100;X-TITLE=Burnley
  Mechanics Theatre:geo:53.787787,-2.244038
END:VEVENT
BEGIN:VTIMEZONE
TZID:Europe/London
X-LIC-LOCATION:Europe/London
BEGIN:DAYLIGHT
DTSTART:20250330T020000
TZOFFSETFROM:+0000
TZOFFSETTO:+0100
TZNAME:BST
END:DAYLIGHT
END:VTIMEZONE
END:VCALENDAR