BEGIN:VCALENDAR
VERSION:2.0
PRODID:-//wp-events-plugin.com//7.2.3.1//EN
TZID:Europe/London
X-WR-TIMEZONE:Europe/London
BEGIN:VEVENT
UID:1241@discoverburnley.co.uk
DTSTART;TZID=Europe/London:20260601T000000
DTEND;TZID=Europe/London:20260731T000000
DTSTAMP:20260401T135632Z
URL:https://discoverburnley.co.uk/whatson/live-summer-music/
SUMMARY:LIVE SUMMER MUSIC
DESCRIPTION:LIVE SUMMER MUSIC\n&nbsp\;\nWith the football season coming to 
 a close and the World Cup games all scheduled for a late evening kick off 
 we are packing out our afternoons with live music!\nCatch some of the very
  best local bands live from 4pm\nAll performing on our brand new outdoor s
 tage\nFree admission\, join us for a pint in the sun!
ATTACH;FMTTYPE=image/jpeg:https://discoverburnley.co.uk/wp-content/uploads
 /2026/03/summ.jpg
CATEGORIES:Burnley Town Centre,Community,Live Music
LOCATION:The Royal Dyche\, Yorkshire Street\, Burnley\, United Kingdom
GEO:53.789131;-2.237188
X-APPLE-STRUCTURED-LOCATION;VALUE=URI;X-ADDRESS=Yorkshire Street\, Burnley\
 , United Kingdom;X-APPLE-RADIUS=100;X-TITLE=The Royal Dyche:geo:53.789131,
 -2.237188
END:VEVENT
BEGIN:VTIMEZONE
TZID:Europe/London
X-LIC-LOCATION:Europe/London
BEGIN:DAYLIGHT
DTSTART:20260329T020000
TZOFFSETFROM:+0000
TZOFFSETTO:+0100
TZNAME:BST
END:DAYLIGHT
END:VTIMEZONE
END:VCALENDAR