BEGIN:VCALENDAR
VERSION:2.0
PRODID:-//wp-events-plugin.com//7.2.3.1//EN
TZID:Europe/London
X-WR-TIMEZONE:Europe/London
BEGIN:VEVENT
UID:238@discoverburnley.co.uk
DTSTART;TZID=Europe/London:20240615T193000
DTEND;TZID=Europe/London:20240615T220000
DTSTAMP:20240516T082053Z
URL:https://discoverburnley.co.uk/whatson/lipstick-on-your-collar/
SUMMARY:Lipstick On Your Collar
DESCRIPTION:Step back in time to the golden era of music where the jukebox 
 roared and feet didn't touch the floor. Get your dancing shoes at the read
 y\, grab yourself a milkshake and relax - you are in for an evening of bac
 k-to-back hits from the 1950s and 60s!\n\n\nFrom the birth of Rock n Roll 
 through to the Beat Group sounds of the British Invasion and beyond\, the 
 show is packed with over forty hits from the likes of Connie Francis\, Bre
 nda Lee\, Buddy Holly\, Chuck Berry\, The Beatles\, The Ronettes\, Cliff R
 ichard\, Cilla Black and many more.\n\nPerformed by a full live band\, fea
 turing some of the country's top musicians\, this incredible show features
  excellent vocals\, tight harmonies and an infectious sense of fun.\n\nDan
 cing in the aisles is strictly compulsory so bring your dancing shoes and 
 let the good times roll!\n\nTickets: £29\n\nhttps://burnleymechanics.tick
 etsolve.com/ticketbooth/shows/873653496\n\n
ATTACH;FMTTYPE=image/jpeg:https://discoverburnley.co.uk/wp-content/uploads
 /2024/05/Lipstick-On-Your-Collar-Primary-Image-Website-Landscape-RGB-960x7
 21-1.jpg
CATEGORIES:Burnley Town Centre,Live Music
LOCATION:Burnley Mechanics Theatre\, Manchester Road\, Burnley\, Lancashire
 \, BB11 1BH\, United Kingdom
GEO:53.787787;-2.244038
X-APPLE-STRUCTURED-LOCATION;VALUE=URI;X-ADDRESS=Manchester Road\, Burnley\,
  Lancashire\, BB11 1BH\, United Kingdom;X-APPLE-RADIUS=100;X-TITLE=Burnley
  Mechanics Theatre:geo:53.787787,-2.244038
END:VEVENT
BEGIN:VTIMEZONE
TZID:Europe/London
X-LIC-LOCATION:Europe/London
BEGIN:DAYLIGHT
DTSTART:20240331T020000
TZOFFSETFROM:+0000
TZOFFSETTO:+0100
TZNAME:BST
END:DAYLIGHT
END:VTIMEZONE
END:VCALENDAR