BEGIN:VCALENDAR
VERSION:2.0
PRODID:-//wp-events-plugin.com//7.2.3.1//EN
TZID:Europe/London
X-WR-TIMEZONE:Europe/London
BEGIN:VEVENT
UID:244@discoverburnley.co.uk
DTSTART;TZID=Europe/London:20240912T193000
DTEND;TZID=Europe/London:20240912T220000
DTSTAMP:20240516T082054Z
URL:https://discoverburnley.co.uk/whatson/lionel/
SUMMARY:Lionel
DESCRIPTION:Following his appearances with Lionel Richie himself on ITV’s
  ‘Sunday Night at The Palladium’ and the ‘Graham Norton Show’ for 
 the BBC\, Malcolm Pitt delivers a powerhouse and breath-taking performance
  in this high-octane show celebrating the music of Lionel Richie and the C
 ommodores. This award winning five-star production also features a stellar
  line-up of world class musicians including musical director\, Jonny Mille
 r from Talon.\n\n‘Dancing On the Ceiling’\, ‘Hello’\, ‘Three Tim
 es A Lady’\, ‘Easy’\, ‘All Night Long’ and many more...\n\n"I c
 lose my eyes and it's Lionel" - Roger Upright\, Ex-Western European Mana
 ger of Motown\n\nTickets: £27\n\nhttps://burnleymechanics.ticketsolve.com
 /ticketbooth/shows/873651230
ATTACH;FMTTYPE=image/jpeg:https://discoverburnley.co.uk/wp-content/uploads
 /2024/05/LIONEL-1500-x-1500.jpg
CATEGORIES:Burnley Town Centre,Live Music
LOCATION:Burnley Mechanics Theatre\, Manchester Road\, Burnley\, Lancashire
 \, BB11 1BH\, United Kingdom
GEO:53.787787;-2.244038
X-APPLE-STRUCTURED-LOCATION;VALUE=URI;X-ADDRESS=Manchester Road\, Burnley\,
  Lancashire\, BB11 1BH\, United Kingdom;X-APPLE-RADIUS=100;X-TITLE=Burnley
  Mechanics Theatre:geo:53.787787,-2.244038
END:VEVENT
BEGIN:VTIMEZONE
TZID:Europe/London
X-LIC-LOCATION:Europe/London
BEGIN:DAYLIGHT
DTSTART:20240331T020000
TZOFFSETFROM:+0000
TZOFFSETTO:+0100
TZNAME:BST
END:DAYLIGHT
END:VTIMEZONE
END:VCALENDAR