BEGIN:VCALENDAR
VERSION:2.0
PRODID:-//wp-events-plugin.com//7.2.3.1//EN
TZID:Europe/London
X-WR-TIMEZONE:Europe/London
BEGIN:VEVENT
UID:44@discoverburnley.co.uk
DTSTART;TZID=Europe/London:20230913T140000
DTEND;TZID=Europe/London:20230913T153000
DTSTAMP:20230823T122304Z
URL:https://discoverburnley.co.uk/whatson/lecture-a-virtual-tour-of-the-ho
 uses-of-parliament-by-frank-bartram/
SUMMARY:Lecture: "A Virtual tour of the Houses of Parliament" by Frank Bart
 ram
DESCRIPTION:Members free\, guests £2.00
LOCATION:St. John's R. C. Church Hall\, Ivy Street\, Burnley\, Lancashire\,
  BB10 1TB\, United Kingdom
GEO:53.804304;-2.232154
X-APPLE-STRUCTURED-LOCATION;VALUE=URI;X-ADDRESS=Ivy Street\, Burnley\, Lanc
 ashire\, BB10 1TB\, United Kingdom;X-APPLE-RADIUS=100;X-TITLE=St. John's R
 . C. Church Hall:geo:53.804304,-2.232154
END:VEVENT
BEGIN:VTIMEZONE
TZID:Europe/London
X-LIC-LOCATION:Europe/London
BEGIN:DAYLIGHT
DTSTART:20230326T020000
TZOFFSETFROM:+0000
TZOFFSETTO:+0100
TZNAME:BST
END:DAYLIGHT
END:VTIMEZONE
END:VCALENDAR