BEGIN:VCALENDAR
VERSION:2.0
PRODID:-//wp-events-plugin.com//7.2.3.1//EN
TZID:Europe/London
X-WR-TIMEZONE:Europe/London
BEGIN:VEVENT
UID:77@discoverburnley.co.uk
DTSTART;TZID=Europe/London:20231006T193000
DTEND;TZID=Europe/London:20231006T220000
DTSTAMP:20230831T195215Z
URL:https://discoverburnley.co.uk/whatson/jersey-beats/
SUMMARY:JERSEY BEATS
DESCRIPTION:The Jersey Beats – Oh What a Nite Tour\n\nA sensational show 
 celebrating the wonderful music of Frankie Valli &amp\; The Four Seasons!\
 n\nFeaturing the music of Frankie Valli &amp\; The Four Seasons! This is m
 usic with a broad appeal including ‘Sherry’ ‘Beggin’\, ‘Grease
 ’ and ‘My Eyes Adored you’ PLUS more music from the era – so no wo
 rries about individual taste or pleasing a big group.\n\nPerformed by an a
 mazing quartet of vocalists – Matt Andrews (Frankie)\, Johnny O’Connor
  (Nick)\, Toby Beal (Tommy) and Michael Cosgrove (Bob) – the show appear
 s with a fabulous full production including video.\n\nYou’ll enjoy plent
 y of comedy\, music and moves from our hilarious host Leye D Johns Direct 
 from Blackpool.\n\nTickets: £27\n\nReserved Seating\n\n
ATTACH;FMTTYPE=image/jpeg:https://discoverburnley.co.uk/wp-content/uploads
 /2023/08/Jersey-Beats.jpeg
CATEGORIES:Live Music,Theatre and Culture
LOCATION:Burnley Mechanics Theatre\, Manchester Road\, Burnley\, Lancashire
 \, BB11 1BH\, United Kingdom
GEO:53.787787;-2.244038
X-APPLE-STRUCTURED-LOCATION;VALUE=URI;X-ADDRESS=Manchester Road\, Burnley\,
  Lancashire\, BB11 1BH\, United Kingdom;X-APPLE-RADIUS=100;X-TITLE=Burnley
  Mechanics Theatre:geo:53.787787,-2.244038
END:VEVENT
BEGIN:VTIMEZONE
TZID:Europe/London
X-LIC-LOCATION:Europe/London
BEGIN:DAYLIGHT
DTSTART:20230326T020000
TZOFFSETFROM:+0000
TZOFFSETTO:+0100
TZNAME:BST
END:DAYLIGHT
END:VTIMEZONE
END:VCALENDAR