BEGIN:VCALENDAR
VERSION:2.0
PRODID:-//wp-events-plugin.com//7.2.3.1//EN
TZID:Europe/London
X-WR-TIMEZONE:Europe/London
BEGIN:VEVENT
UID:467@discoverburnley.co.uk
DTSTART;TZID=Europe/London:20250906T193000
DTEND;TZID=Europe/London:20250906T220000
DTSTAMP:20241108T113402Z
URL:https://discoverburnley.co.uk/whatson/hits-out-of-hell-the-legend-of-m
 eatloaf/
SUMMARY:Hits Out Of Hell - The Legend of Meatloaf
DESCRIPTION:Celebrating the legendary Meat Loaf\n\nCelebrating the life\, m
 usic and legend of the musical maestro Meat Loaf\n\nThe World’s premier 
 show in tribute to Meat Loaf\, featuring the Ultimate ‘Dead Ringer’ to
  Meat Loaf Craig Halford as seen on ITV’s ‘Stars in their eyes’ and 
 Channel 4’s ‘The Last Leg’.\n\nExperience all the hits from what is 
 one of the best-selling artists of all time\, culminating over 80 million 
 album sales\, a grammy award and the best rock and roll love anthems ever 
 written.\n\nI’D Do Anything for Love\, Bat Out of Hell\, Two Out of Thre
 e Ain’t Bad\, You Took The Words Right Out of My Mouth\, Rock And Roll D
 reams Come Through\, Paradise by the Dashboard Light\, Dead Ringer for Lov
 e and many many more.\n\nTickets: £28.50\n\nhttps://burnleymechanics.tick
 etsolve.com/ticketbooth/shows/873665932
ATTACH;FMTTYPE=image/jpeg:https://discoverburnley.co.uk/wp-content/uploads
 /2024/11/Meatloaf-Square.jpg
CATEGORIES:Burnley Town Centre,Live Music
LOCATION:Burnley Mechanics Theatre\, Manchester Road\, Burnley\, Lancashire
 \, BB11 1BH\, United Kingdom
GEO:53.787787;-2.244038
X-APPLE-STRUCTURED-LOCATION;VALUE=URI;X-ADDRESS=Manchester Road\, Burnley\,
  Lancashire\, BB11 1BH\, United Kingdom;X-APPLE-RADIUS=100;X-TITLE=Burnley
  Mechanics Theatre:geo:53.787787,-2.244038
END:VEVENT
BEGIN:VTIMEZONE
TZID:Europe/London
X-LIC-LOCATION:Europe/London
BEGIN:DAYLIGHT
DTSTART:20250330T020000
TZOFFSETFROM:+0000
TZOFFSETTO:+0100
TZNAME:BST
END:DAYLIGHT
END:VTIMEZONE
END:VCALENDAR