BEGIN:VCALENDAR
VERSION:2.0
PRODID:-//wp-events-plugin.com//7.2.3.1//EN
TZID:Europe/London
X-WR-TIMEZONE:Europe/London
BEGIN:VEVENT
UID:1191@discoverburnley.co.uk
DTSTART;TZID=Europe/London:20261029T193000
DTEND;TZID=Europe/London:20261029T220000
DTSTAMP:20260313T115342Z
URL:https://discoverburnley.co.uk/whatson/halloween-in-concert/
SUMMARY:Halloween in Concert
DESCRIPTION:A frighteningly good night of graveyard smash hits for all the 
 family!\n\nAs darkness falls across the land\, join our amazing cast and l
 ive band. With stunning stage visuals and state-of-the-art production\, br
 inging to life an amazing crescendo of all things Halloween… with a twis
 t!\n\nArrive dressed to impress - with a prize for the winner\, as we sett
 le in for The Music of the Night\, in this brand-new concert Thriller\
 , that’s just out of this world!\n\nFrom the producers of Step Into Chr
 istmas\, this atmospheric show brings back to life some of the greatest s
 pooky hits ever in one electrifying production. With songs including - Mo
 nster Mash\, Highway to Hell\, The Time Warp\, Running Up That Hill\, 
 Hungry like the Wolf\, Maneater\, Bat out of Hell\, It's a kind of Magic
 \, She Wolf\, and of course Thriller!\n\nThere will be singing\, laughte
 r and maybe some Dancing in the Moonlight\, as we celebrate the magic of 
 Halloween\, for one night only!\n\nGet your tickets now\, they’ll be gon
 e in a flash! \n\n&nbsp\;\n\nTickets: £36 Best Seats / £34 Standard / 
 £30 Back Rows\n\nhttps://burnleymechanics.ticketsolve.com/ticketbooth/sho
 ws/873682962
ATTACH;FMTTYPE=image/jpeg:https://discoverburnley.co.uk/wp-content/uploads
 /2026/03/1080x1080-3.jpg
CATEGORIES:Burnley Town Centre,Theatre and Culture
LOCATION:Burnley Mechanics Theatre\, Manchester Road\, Burnley\, Lancashire
 \, BB11 1BH\, United Kingdom
GEO:53.787787;-2.244038
X-APPLE-STRUCTURED-LOCATION;VALUE=URI;X-ADDRESS=Manchester Road\, Burnley\,
  Lancashire\, BB11 1BH\, United Kingdom;X-APPLE-RADIUS=100;X-TITLE=Burnley
  Mechanics Theatre:geo:53.787787,-2.244038
END:VEVENT
BEGIN:VTIMEZONE
TZID:Europe/London
X-LIC-LOCATION:Europe/London
BEGIN:STANDARD
DTSTART:20261025T010000
TZOFFSETFROM:+0100
TZOFFSETTO:+0000
TZNAME:GMT
END:STANDARD
END:VTIMEZONE
END:VCALENDAR