BEGIN:VCALENDAR
VERSION:2.0
PRODID:-//wp-events-plugin.com//7.2.3.1//EN
TZID:Europe/London
X-WR-TIMEZONE:Europe/London
BEGIN:VEVENT
UID:1238@discoverburnley.co.uk
DTSTART;TZID=Europe/London:20260516T050000
DTEND;TZID=Europe/London:20260516T233000
DTSTAMP:20260401T133658Z
URL:https://discoverburnley.co.uk/whatson/girls2loud/
SUMMARY:GIRLS2LOUD
DESCRIPTION:GIRLS2LOUD\nWe are so excited to welcome back the Girls2Loud te
 am\nDJ Cales is putting together a serious line up!\nAnd we can't wait for
  the big reveal\nSaturday 16th May from 5pm until 11:30pm\nTech House / Ha
 rdcore / Dance Classics\nFree entry all night | Strictly over 18's
ATTACH;FMTTYPE=image/jpeg:https://discoverburnley.co.uk/wp-content/uploads
 /2026/03/gg.jpg
CATEGORIES:Burnley Town Centre,Community,Live Music
LOCATION:The Royal Dyche\, Yorkshire Street\, Burnley\, United Kingdom
X-APPLE-STRUCTURED-LOCATION;VALUE=URI;X-ADDRESS=Yorkshire Street\, Burnley\
 , United Kingdom;X-APPLE-RADIUS=100;X-TITLE=The Royal Dyche:geo:0,0
END:VEVENT
BEGIN:VTIMEZONE
TZID:Europe/London
X-LIC-LOCATION:Europe/London
BEGIN:DAYLIGHT
DTSTART:20260329T020000
TZOFFSETFROM:+0000
TZOFFSETTO:+0100
TZNAME:BST
END:DAYLIGHT
END:VTIMEZONE
END:VCALENDAR