BEGIN:VCALENDAR
VERSION:2.0
PRODID:-//wp-events-plugin.com//7.2.3.1//EN
TZID:Europe/London
X-WR-TIMEZONE:Europe/London
BEGIN:VEVENT
UID:320@discoverburnley.co.uk
DTSTART;TZID=Europe/London:20240809T110000
DTEND;TZID=Europe/London:20240809T150000
DTSTAMP:20240719T191413Z
URL:https://discoverburnley.co.uk/whatson/free-family-fun-friday-9th-augus
 t-2024/
SUMMARY:FREE family fun - Friday 9th August 2024
DESCRIPTION:During the summer holidays\, there are a whole range of FREE ac
 tivities lined up in Burnley town centre for children to enjoy.\n\nBurnley
  BID have arranged a host of FREE activities to take place every Friday th
 rough to August 30th.\n\nOn Friday 9th August there is circus skills works
 hop in the undercover area of Charter Walk in front of Superdrug. Step int
 o the mesmerizing world of circus arts and embrace the joy of learning fro
 m skilled professionals who will reveal the well-guarded secrets and capti
 vating tricks of the trade. From the young to the young at heart\, everyon
 e is invited to join in the merriment.\n\nActivities take place from 11am 
 - 3pm.\n\n&nbsp\;\n\n&nbsp\;
ATTACH;FMTTYPE=image/jpeg:https://discoverburnley.co.uk/wp-content/uploads
 /2024/07/circus.jpg
CATEGORIES:Arts and Crafts,Burnley Town Centre,Free To Attend,Kids and
 Families
LOCATION:Charter Walk Shopping Centre\, St James Street\, Burnley\, BB11 1P
 Y\, United Kingdom
X-APPLE-STRUCTURED-LOCATION;VALUE=URI;X-ADDRESS=St James Street\, Burnley\,
  BB11 1PY\, United Kingdom;X-APPLE-RADIUS=100;X-TITLE=Charter Walk Shoppin
 g Centre:geo:0,0
END:VEVENT
BEGIN:VTIMEZONE
TZID:Europe/London
X-LIC-LOCATION:Europe/London
BEGIN:DAYLIGHT
DTSTART:20240331T020000
TZOFFSETFROM:+0000
TZOFFSETTO:+0100
TZNAME:BST
END:DAYLIGHT
END:VTIMEZONE
END:VCALENDAR