BEGIN:VCALENDAR
VERSION:2.0
PRODID:-//wp-events-plugin.com//7.2.3.1//EN
TZID:Europe/London
X-WR-TIMEZONE:Europe/London
BEGIN:VEVENT
UID:1251@discoverburnley.co.uk
DTSTART;TZID=Europe/London:20260515T190000
DTEND;TZID=Europe/London:20260515T210000
DTSTAMP:20260416T134547Z
URL:https://discoverburnley.co.uk/whatson/flowers-and-fizz/
SUMMARY:Flowers and Fizz
DESCRIPTION:🌸🥂 Flowers &amp\; Fizz📅 Friday 15th May | ⏰ 7pm – 
 9pm\nJoin us for a relaxed and creative evening of flower arranging\, pair
 ed with a glass (or two!) of fizz. Whether you’re a complete beginner or
  just fancy trying something new\, it’s the perfect way to unwind and ge
 t creative.\n🎟 Tickets £40 via Eventbrite (*booking fee applies)📧 e
 vents@landmarkburnley.co.uk📞 01282 940095\nCreate your own beautiful fl
 oral arrangement to take home\, with guidance throughout - all in a fun\, 
 social setting 🌿✨
ATTACH;FMTTYPE=image/jpeg:https://discoverburnley.co.uk/wp-content/uploads
 /2026/04/3.png
LOCATION:The Landmark\, 1 School Lane\, Burnley\, Lancashire\, BB11 1UF\, U
 nited Kingdom
X-APPLE-STRUCTURED-LOCATION;VALUE=URI;X-ADDRESS=1 School Lane\, Burnley\, L
 ancashire\, BB11 1UF\, United Kingdom;X-APPLE-RADIUS=100;X-TITLE=The Landm
 ark:geo:0,0
END:VEVENT
BEGIN:VTIMEZONE
TZID:Europe/London
X-LIC-LOCATION:Europe/London
BEGIN:DAYLIGHT
DTSTART:20260329T020000
TZOFFSETFROM:+0000
TZOFFSETTO:+0100
TZNAME:BST
END:DAYLIGHT
END:VTIMEZONE
END:VCALENDAR