BEGIN:VCALENDAR
VERSION:2.0
PRODID:-//wp-events-plugin.com//7.2.3.1//EN
TZID:Europe/London
X-WR-TIMEZONE:Europe/London
BEGIN:VEVENT
UID:215@discoverburnley.co.uk
DTSTART;TZID=Europe/London:20240406T110000
DTEND;TZID=Europe/London:20240406T160000
DTSTAMP:20240321T142733Z
URL:https://discoverburnley.co.uk/whatson/fairies-vs-superheros/
SUMMARY:Fairies VS Superheros
DESCRIPTION:Attention all heroes and fairy enthusiasts!\n\nJoin us at Chart
 er Walk for an epic battle between Fairies and Superheroes! \n\nEnjoy FRE
 E interactive shows from 11am to 4pm\, with captivating performances every
  30 minutes.\nDiscover the secrets of being a real superhero or delve into
  the enchanting world of Tinker Bell's magic!\nDon't miss out – visit ou
 r website for showtimes and details. \nhttps://charterwalk.com/whats-on/\
 n\n\n#fairiesvssuperheroes #events2024 #InteractiveFun
ATTACH;FMTTYPE=image/jpeg:https://discoverburnley.co.uk/wp-content/uploads
 /2024/03/FairiesVSuperheroes_Timings-web-723x1024-1.jpg
LOCATION:Outside Superdrug\, Charter Walk Shopping Centre\, St James Street
 \, Burnley\, BB11 1PY\, United Kingdom
X-APPLE-STRUCTURED-LOCATION;VALUE=URI;X-ADDRESS=St James Street\, Burnley\,
  BB11 1PY\, United Kingdom;X-APPLE-RADIUS=100;X-TITLE=Outside Superdrug\, 
 Charter Walk Shopping Centre:geo:0,0
END:VEVENT
BEGIN:VTIMEZONE
TZID:Europe/London
X-LIC-LOCATION:Europe/London
BEGIN:DAYLIGHT
DTSTART:20240331T020000
TZOFFSETFROM:+0000
TZOFFSETTO:+0100
TZNAME:BST
END:DAYLIGHT
END:VTIMEZONE
END:VCALENDAR