BEGIN:VCALENDAR
VERSION:2.0
PRODID:-//wp-events-plugin.com//7.2.3.1//EN
TZID:Europe/London
X-WR-TIMEZONE:Europe/London
BEGIN:VEVENT
UID:1240@discoverburnley.co.uk
DTSTART;TZID=Europe/London:20260530T190000
DTEND;TZID=Europe/London:20260530T233000
DTSTAMP:20260401T133805Z
URL:https://discoverburnley.co.uk/whatson/dj-turner-on-the-decks-2/
SUMMARY:DJ TURNER ON THE DECKS
DESCRIPTION:DJ TURNER ON THE DECKS\nSaturday 30th May 7pm\nDJ Turner will
  be taking over in the beer garden\nClub Classics - Dancefloor Fillers\nFr
 ee entry all night | Strictly over 18's
ATTACH;FMTTYPE=image/jpeg:https://discoverburnley.co.uk/wp-content/uploads
 /2026/03/30.jpg
CATEGORIES:Burnley Town Centre,Community,Free To Attend,Live Music
LOCATION:The Royal Dyche\, Yorkshire Street\, Burnley\, United Kingdom
GEO:53.789131;-2.237188
X-APPLE-STRUCTURED-LOCATION;VALUE=URI;X-ADDRESS=Yorkshire Street\, Burnley\
 , United Kingdom;X-APPLE-RADIUS=100;X-TITLE=The Royal Dyche:geo:53.789131,
 -2.237188
END:VEVENT
BEGIN:VTIMEZONE
TZID:Europe/London
X-LIC-LOCATION:Europe/London
BEGIN:DAYLIGHT
DTSTART:20260329T020000
TZOFFSETFROM:+0000
TZOFFSETTO:+0100
TZNAME:BST
END:DAYLIGHT
END:VTIMEZONE
END:VCALENDAR