BEGIN:VCALENDAR
VERSION:2.0
PRODID:-//wp-events-plugin.com//7.2.3.1//EN
TZID:Europe/London
X-WR-TIMEZONE:Europe/London
BEGIN:VEVENT
UID:273@discoverburnley.co.uk
DTSTART;TZID=Europe/London:20240619T093000
DTEND;TZID=Europe/London:20240621T160000
DTSTAMP:20240516T082053Z
URL:https://discoverburnley.co.uk/whatson/discover-decomposition-workshop/
SUMMARY:Discover Decomposition! Workshop
DESCRIPTION:Are you interested in forensic science\, pathology and decompos
 ition? Would you like to find out more about how bodies change after death
 \, and how this information can be used to help a criminal investigation?\
 n\nIf so\, this one-day workshop is for you and your friends! This worksho
 p is perfect for 16-19 year olds thinking about following a career in fore
 nsic science\, medicine\, biomedical sciences or veterinary science\, but 
 anyone with an interest in forensic anthropology\, pathology\, and crime s
 cene investigation can come along.\n\nThis workshop is delivered by experi
 enced Forensic Anthropologists from the University of Central Lancashire\,
  and gives you the chance to get up close to real dead bodies (animal) to 
 learn about the processes of decomposition\, and how they vary over time a
 nd in different environments. The workshop includes a visit to UCLan’s a
 mazing animal decomposition research facility\, “TRACES”\, where you w
 ill see the exciting research projects we are undertaking.\n\nAttendees wi
 ll receive a certificate of attendance and goodie bag\, and have something
  impressive to put on their personal statements.
ATTACH;FMTTYPE=image/jpeg:https://discoverburnley.co.uk/wp-content/uploads
 /2024/05/AI-pic_crime-scene-outdoors.png
CATEGORIES:Burnley Town Centre,Community,Other,Outdoor Town
LOCATION:University of Central Lancashire\, Victoria Mill\, Trafalgar Stree
 t\, Burnley\, Lancashire\, BB11 1RA\, North West\, United Kingdom
GEO:53.789076;-2.253691
X-APPLE-STRUCTURED-LOCATION;VALUE=URI;X-ADDRESS=Trafalgar Street\, Burnley\
 , Lancashire\, BB11 1RA\, North West\, United Kingdom;X-APPLE-RADIUS=100;X
 -TITLE=University of Central Lancashire\, Victoria Mill:geo:53.789076,-2.2
 53691
END:VEVENT
BEGIN:VTIMEZONE
TZID:Europe/London
X-LIC-LOCATION:Europe/London
BEGIN:DAYLIGHT
DTSTART:20240331T020000
TZOFFSETFROM:+0000
TZOFFSETTO:+0100
TZNAME:BST
END:DAYLIGHT
END:VTIMEZONE
END:VCALENDAR