BEGIN:VCALENDAR
VERSION:2.0
PRODID:-//wp-events-plugin.com//7.2.3.1//EN
TZID:Europe/London
X-WR-TIMEZONE:Europe/London
BEGIN:VEVENT
UID:36@discoverburnley.co.uk
DTSTART;TZID=Europe/London:20230826T110000
DTEND;TZID=Europe/London:20230826T160000
DTSTAMP:20230721T203237Z
URL:https://discoverburnley.co.uk/whatson/delightful-suncatchers/
SUMMARY:Delightful Suncatchers
DESCRIPTION:Calling all nature enthusiasts and craft lovers! Get ready for 
 an enchanting crafting experience at our Suncatcher Workshop. Discover the
  magic of real pressed flowers as you create your own stunning suncatcher 
 using transparent contact paper and a lollipop stick frame.\n\nIn this han
 ds-on workshop\, you'll have the chance to select from a variety of vibran
 t pressed flowers\, unlocking your artistic potential to design a suncatch
 er that speaks to your individual style. As the sunlight dances through th
 e contact paper\, your creation will transform into a dazzling stained-gla
 ss masterpiece\, infusing your space with a radiant burst of colour and na
 tural beauty.\n\nJoin us at this special event in the undercover area in f
 ront of Superdrug and let the joy of crafting with real pressed flowers br
 ighten your day.
ATTACH;FMTTYPE=image/jpeg:https://discoverburnley.co.uk/wp-content/uploads
 /2023/07/suncatchers.jpg
CATEGORIES:Burnley Town Centre,Free To Attend
LOCATION:Outside Superdrug\, Charter Walk Shopping Centre\, St James Street
 \, Burnley\, BB11 1PY\, United Kingdom
X-APPLE-STRUCTURED-LOCATION;VALUE=URI;X-ADDRESS=St James Street\, Burnley\,
  BB11 1PY\, United Kingdom;X-APPLE-RADIUS=100;X-TITLE=Outside Superdrug\, 
 Charter Walk Shopping Centre:geo:0,0
END:VEVENT
BEGIN:VTIMEZONE
TZID:Europe/London
X-LIC-LOCATION:Europe/London
BEGIN:DAYLIGHT
DTSTART:20230326T020000
TZOFFSETFROM:+0000
TZOFFSETTO:+0100
TZNAME:BST
END:DAYLIGHT
END:VTIMEZONE
END:VCALENDAR