BEGIN:VCALENDAR
VERSION:2.0
PRODID:-//wp-events-plugin.com//7.2.3.1//EN
TZID:Europe/London
X-WR-TIMEZONE:Europe/London
BEGIN:VEVENT
UID:796@discoverburnley.co.uk
DTSTART;TZID=Europe/London:20260129T193000
DTEND;TZID=Europe/London:20260129T220000
DTSTAMP:20250618T134914Z
URL:https://discoverburnley.co.uk/whatson/dave-spikey/
SUMMARY:Dave Spikey
DESCRIPTION:This show is all about Dave’s life in ….. well…. a northe
 rn town\, so no surprise there. From his working-class childhood in the sm
 all\, terraced houses round the mills in Bolton through passing his 11 plu
 s and going to grammar school with an ambition to be a doctor which was th
 warted just after his “O” levels. Instead\, at 16 getting a job in the
  Pathology department at Bolton General Hospital and working there for 32 
 years ultimately as Chief Biomedical Scientist in Haematology before throw
 ing caution to the wind and leaving to pursue a career in comedy\, as you 
 do! He will tell how he turned his microscope off for the last time on Oct
 ober 13th\, 2000\, and two weeks later found himself on a car park only ha
 lf a mile down the road singing “Walking on Sunshine” in the pouring r
 ain on a makeshift stage dressed as a giant berry \; while a ten foot c*ck
  and balls slowly but surely inflated behind him. He wondered at that mome
 nt if he’d made the right decision. As it turns out\, he had.\n\nAge Gui
 dance: 16+\n\nTickets: £24.50 | £22 Concession\n\nhttps://burnleymechani
 cs.ticketsolve.com/ticketbooth/shows/873674300
ATTACH;FMTTYPE=image/jpeg:https://discoverburnley.co.uk/wp-content/uploads
 /2025/06/thumbnail_4342-Spikey.jpg
CATEGORIES:Burnley Town Centre,Theatre and Culture
LOCATION:Burnley Mechanics Theatre\, Manchester Road\, Burnley\, Lancashire
 \, BB11 1BH\, United Kingdom
GEO:53.787787;-2.244038
X-APPLE-STRUCTURED-LOCATION;VALUE=URI;X-ADDRESS=Manchester Road\, Burnley\,
  Lancashire\, BB11 1BH\, United Kingdom;X-APPLE-RADIUS=100;X-TITLE=Burnley
  Mechanics Theatre:geo:53.787787,-2.244038
END:VEVENT
BEGIN:VTIMEZONE
TZID:Europe/London
X-LIC-LOCATION:Europe/London
BEGIN:STANDARD
DTSTART:20251026T010000
TZOFFSETFROM:+0100
TZOFFSETTO:+0000
TZNAME:GMT
END:STANDARD
END:VTIMEZONE
END:VCALENDAR