BEGIN:VCALENDAR
VERSION:2.0
PRODID:-//wp-events-plugin.com//7.2.3.1//EN
TZID:Europe/London
X-WR-TIMEZONE:Europe/London
BEGIN:VEVENT
UID:1122@discoverburnley.co.uk
DTSTART;TZID=Europe/London:20260912T193000
DTEND;TZID=Europe/London:20260912T220000
DTSTAMP:20260112T101627Z
URL:https://discoverburnley.co.uk/whatson/chris-connor-the-world-famous-el
 vis-show-3/
SUMMARY:Chris Connor - The World Famous Elvis Show
DESCRIPTION:The World Famous Elvis Show - starring world renowned CHRIS 
 CONNOR! \n&nbsp\;\n\nA magnificent  theatre production\, Starring and 
 produced by world renowned Elvis performer CHRIS CONNOR. With his  12 pi
 ece live band &amp\; backing vocals by 'The Sweet Harmonies' .\n\nThis sh
 ow respectively and authentically recreates ELVIS at his very best recre
 ating 2 concerts! You will simply feel that you have been transported ba
 ck in to time.\n\nIf you were not lucky enough to see Elvis live\, you wil
 l walk away from this concert feeling that you have! many Elvis  fans ar
 e left emotionally moved when they leave the show.\n\nThere is only ONE E
 lvis Presley\, however fans all around the world are talking about CHRIS
  CONNOR who is remarkably so very close to Elvis in both looks and voice 
 and mannerisms.\n\n\nTickets: £33\n\n https://burnleymechanics.ticketsol
 ve.com/ticketbooth/shows/873681548
ATTACH;FMTTYPE=image/jpeg:https://discoverburnley.co.uk/wp-content/uploads
 /2026/01/IMG_0534-square-copy.jpeg
CATEGORIES:Burnley Town Centre,Theatre and Culture
LOCATION:Burnley Mechanics Theatre\, Manchester Road\, Burnley\, Lancashire
 \, BB11 1BH\, United Kingdom
GEO:53.787787;-2.244038
X-APPLE-STRUCTURED-LOCATION;VALUE=URI;X-ADDRESS=Manchester Road\, Burnley\,
  Lancashire\, BB11 1BH\, United Kingdom;X-APPLE-RADIUS=100;X-TITLE=Burnley
  Mechanics Theatre:geo:53.787787,-2.244038
END:VEVENT
BEGIN:VTIMEZONE
TZID:Europe/London
X-LIC-LOCATION:Europe/London
BEGIN:DAYLIGHT
DTSTART:20260329T020000
TZOFFSETFROM:+0000
TZOFFSETTO:+0100
TZNAME:BST
END:DAYLIGHT
END:VTIMEZONE
END:VCALENDAR