BEGIN:VCALENDAR
VERSION:2.0
PRODID:-//wp-events-plugin.com//7.2.3.1//EN
TZID:Europe/London
X-WR-TIMEZONE:Europe/London
BEGIN:VEVENT
UID:783@discoverburnley.co.uk
DTSTART;TZID=Europe/London:20250711T190000
DTEND;TZID=Europe/London:20250711T234500
DTSTAMP:20250616T170108Z
URL:https://discoverburnley.co.uk/whatson/celebrating-the-life-and-legacy-
 of-marcus-intalex/
SUMMARY:Celebrating the Life and Legacy of Marcus Intalex
DESCRIPTION:A proper celebration of a music legend\nFree tickets available 
 here\n\nJoin us for a special evening celebrating the life and musical leg
 acy of Marcus Kaye\, beloved as Marcus Intalex and Trevino to generations 
 of electronic music fans\, as we launch How You Me Feel – his new biog
 raphy by Sherif Dhaimish and Mark O'Donnell.\n\nFittingly\, we're gatherin
 g at Burnley's Vineyard\, formerly the Kestrel Suite where Marcus put on e
 arly rave nights almost forty years ago.\nEvent Highlights\nPanel Discussi
 on (7:30pm - 8:30pm)\n\nA conversation exploring Marcus's profound impact 
 on electronic music\, featuring friends and DJs who shared the decks and d
 ancefloors with him during the golden era of rave culture.\n\nSets from t
 op DJs (8:30pm till late):\n\nAnts K Gilly Jason 'Jack' Frost Mark OD\n\n
 Dress to rave\nWhat to Expect\n*Drinks flowing and good vibes guaranteed\n
 \n*Stories\, memories\, and music that shaped a movement\n\n*Books availab
 le for purchase on the night (or order here now)\n\nCome down for a drink\
 , a dance\, and to honour the memory of a true pioneer. Whether you knew M
 arcus personally or his music touched your life\, this is a night to remem
 ber one of electronic music's most influential figures.\n\nLet's celebrate
  the beats\, the memories\, and the legacy that lives on.
ATTACH;FMTTYPE=image/jpeg:https://discoverburnley.co.uk/wp-content/uploads
 /2025/06/The-Vineyard-4x5-1.jpg
CATEGORIES:Burnley Town Centre
LOCATION:The Vineyard\, Burnley\, 1 Wittam Street\, Burnley\, Lancashire\, 
 BB11 1LN\, United Kingdom
X-APPLE-STRUCTURED-LOCATION;VALUE=URI;X-ADDRESS=1 Wittam Street\, Burnley\,
  Lancashire\, BB11 1LN\, United Kingdom;X-APPLE-RADIUS=100;X-TITLE=The Vin
 eyard\, Burnley:geo:0,0
END:VEVENT
BEGIN:VTIMEZONE
TZID:Europe/London
X-LIC-LOCATION:Europe/London
BEGIN:DAYLIGHT
DTSTART:20250330T020000
TZOFFSETFROM:+0000
TZOFFSETTO:+0100
TZNAME:BST
END:DAYLIGHT
END:VTIMEZONE
END:VCALENDAR