BEGIN:VCALENDAR
VERSION:2.0
PRODID:-//wp-events-plugin.com//7.2.3.1//EN
TZID:Europe/London
X-WR-TIMEZONE:Europe/London
BEGIN:VEVENT
UID:188@discoverburnley.co.uk
DTSTART;TZID=Europe/London;VALUE=DATE:20240309
DTEND;TZID=Europe/London;VALUE=DATE:20240310
DTSTAMP:20240209T113715Z
URL:https://discoverburnley.co.uk/whatson/burnley-youth-market/
SUMMARY:Burnley Youth Market
DESCRIPTION:\nBURNLEY’S YOUNG TRADERS MARKET COMPETITION\n\n\n\n9th Marc
 h and 8th June 2024\nHAVE YOU A GREAT BUSINESS IDEA AND DON’T KNOW WHER
 E TO START?\nBurnley Market is joining many other markets up and down the 
 country to give an opportunity for young people between the ages of 16 and
  30 to try their hand at market trading.\n\nIf you have a flair for entrep
 reneurship and are looking for a platform to showcase your goods\, then jo
 in us here at Burnley Market. The winners of the competition will go throu
 gh to the regional finals in Bolton on the 22nd June and the national fin
 als in Stratford Upon Avon on 25th and 26th August 2024.\n\nWant to know
  what happened at last year’s national final? Take a look on NMTF’s w
 ebsite.\nWILL IT COST YOU ANYTHING?\nYou pay a deposit of £20.00\; Get £
 15.00 back on the day and a £5.00 voucher to spend in the market.\nWORRIE
 D ABOUT INSURANCE?\nWe’ve got you covered!  The NMTF cover you for both
  product and public liability insurance while you are trading with us.\nSO
 \, WHAT DO YOU NEED TO DO?\nIf you’re between 16 and 30\, call us on Bur
 nley 01282 477188 or 01282 477300 for further information and how to book.
 \n\n\n&nbsp\;
ATTACH;FMTTYPE=image/jpeg:https://discoverburnley.co.uk/wp-content/uploads
 /2024/02/rsz_2426279813_802804598555710_39663256413359959_n_1.jpg
CATEGORIES:Burnley Town Centre,Community,Free To Attend,Live
 Music,Showcase Events
LOCATION:Burnley Market\, Curzon Street\, Burnley\, BB11 1BB\, United Kingd
 om
GEO:53.790911;-2.244192
X-APPLE-STRUCTURED-LOCATION;VALUE=URI;X-ADDRESS=Curzon Street\, Burnley\, B
 B11 1BB\, United Kingdom;X-APPLE-RADIUS=100;X-TITLE=Burnley Market:geo:53.
 790911,-2.244192
END:VEVENT
BEGIN:VTIMEZONE
TZID:Europe/London
X-LIC-LOCATION:Europe/London
BEGIN:STANDARD
DTSTART:20231029T010000
TZOFFSETFROM:+0100
TZOFFSETTO:+0000
TZNAME:GMT
END:STANDARD
END:VTIMEZONE
END:VCALENDAR