BEGIN:VCALENDAR
VERSION:2.0
PRODID:-//wp-events-plugin.com//7.2.3.1//EN
TZID:Europe/London
X-WR-TIMEZONE:Europe/London
BEGIN:VEVENT
UID:544@discoverburnley.co.uk
DTSTART;TZID=Europe/London:20250521T183000
DTEND;TZID=Europe/London:20250521T213000
DTSTAMP:20250116T172507Z
URL:https://discoverburnley.co.uk/whatson/burnley-inclusive-disco-5/
SUMMARY:Burnley Inclusive Disco
DESCRIPTION:Join us at Bee's Knee's Burnley for our new disco event for peo
 ple with learning disabilities and autistic adults.\n\nCome and experience
  an exclusive disco experience in one of Burnley's favorite venues!\nTicke
 ts: £5\nCarers: FREE entry\n\n** Please note pre-booking is preferable bu
 t you can also pay on the night - make sure you book your tickets in advan
 ce where possible! **\n\nThe disco night will be supported by our amazing 
 event team until 9:30pm\n\nDates:\n21st May\, 18th June\, 16th July\, 13th
  August\, 17th September\, 15th October\, 12th November\, 10th December\n\
 n
ATTACH;FMTTYPE=image/jpeg:https://discoverburnley.co.uk/wp-content/uploads
 /2025/01/Burnley-Disco-2025.png
CATEGORIES:Live Music
LOCATION:Bees Knees\, 20 Hargreaves street\, Burnley\, BB11 1DU\, Burnley\,
  Lancashire \, BB11 1DU\, Lancashire \, United Kingdom
X-APPLE-STRUCTURED-LOCATION;VALUE=URI;X-ADDRESS=20 Hargreaves street\, Burn
 ley\, BB11 1DU\, Burnley\, Lancashire \, BB11 1DU\, Lancashire \, United K
 ingdom;X-APPLE-RADIUS=100;X-TITLE=Bees Knees:geo:0,0
END:VEVENT
BEGIN:VTIMEZONE
TZID:Europe/London
X-LIC-LOCATION:Europe/London
BEGIN:DAYLIGHT
DTSTART:20250330T020000
TZOFFSETFROM:+0000
TZOFFSETTO:+0100
TZNAME:BST
END:DAYLIGHT
END:VTIMEZONE
END:VCALENDAR