BEGIN:VCALENDAR
VERSION:2.0
PRODID:-//wp-events-plugin.com//7.2.3.1//EN
TZID:Europe/London
X-WR-TIMEZONE:Europe/London
BEGIN:VEVENT
UID:1217@discoverburnley.co.uk
DTSTART;TZID=Europe/London:20260502T090000
DTEND;TZID=Europe/London:20260502T170000
DTSTAMP:20260401T133030Z
URL:https://discoverburnley.co.uk/whatson/burnley-artisan-market-23/
SUMMARY:Burnley Artisan Market
DESCRIPTION:\n 80 Artisan Stalls\nExpect an incredible mix of makers\, bake
 rs\, creators\, producers\, and all-round talented artisans.\n\n\n Live Mu
 sic\nEnjoy the vibe as you shop\, snack\, and soak up the street market ma
 gic.\n\n\n FREE Kids Activities\nKeep the little ones entertained with FRE
 E craft workshops and Sand Art fun!\n\n\n Dog Friendly\nBring your furry f
 riends — they’re welcome too!\n\n\n Where:\nSt James Street &amp\; Und
 ercover in Charter Walk\nBurnley Town Centre | Postcode: BB11 1NQ\n Saturd
 ay 2nd May | All day fun!\n
CATEGORIES:Arts and Crafts,Burnley Town Centre,Community,Free To
 Attend,Kids and Families,Live Music,Showcase Events
LOCATION:St James’s Street\, Burnley Town Centre\, St James’s Street\, 
 Burnley\, BB11 1NG\, United Kingdom
GEO:53.788956;-2.24126
X-APPLE-STRUCTURED-LOCATION;VALUE=URI;X-ADDRESS=St James’s Street\, Burnl
 ey\, BB11 1NG\, United Kingdom;X-APPLE-RADIUS=100;X-TITLE=St James’s Str
 eet\, Burnley Town Centre:geo:53.788956,-2.24126
END:VEVENT
BEGIN:VTIMEZONE
TZID:Europe/London
X-LIC-LOCATION:Europe/London
BEGIN:DAYLIGHT
DTSTART:20260329T020000
TZOFFSETFROM:+0000
TZOFFSETTO:+0100
TZNAME:BST
END:DAYLIGHT
END:VTIMEZONE
END:VCALENDAR