BEGIN:VCALENDAR
VERSION:2.0
PRODID:-//wp-events-plugin.com//7.2.3.1//EN
TZID:Europe/London
X-WR-TIMEZONE:Europe/London
BEGIN:VEVENT
UID:1255@discoverburnley.co.uk
DTSTART;TZID=Europe/London:20261125T193000
DTEND;TZID=Europe/London:20261125T220000
DTSTAMP:20260423T180309Z
URL:https://discoverburnley.co.uk/whatson/britrock-film-tour/
SUMMARY:Britrock Film Tour
DESCRIPTION:'The BritRock Film Tour' is back for its 13th year!\nWe’ve li
 ned up the very best new climbing and adventure films from the UK – epic
  ascents\, big laughs\, and gripping stories that’ll leave you buzzing f
 or your next adventure. BritRock brings together world-class athletes and 
 everyday questers alike. Grab your mates\, grab a seat\, and get ready for
  a night of pure climbing inspiration.\n\nHosted by Burnley born filmmaker
  and BritRock founder Alastair Lee in his inimitable style\; sponsor givea
 ways\, athlete and filmmaker Q n A all inclusive.\n\nTickets: £16\n\nhtt
 ps://burnleymechanics.ticketsolve.com/ticketbooth/shows/873685691
ATTACH;FMTTYPE=image/jpeg:https://discoverburnley.co.uk/wp-content/uploads
 /2026/04/1080x1080.jpg
CATEGORIES:Burnley Town Centre,Theatre and Culture
LOCATION:Burnley Mechanics Theatre\, Manchester Road\, Burnley\, Lancashire
 \, BB11 1BH\, United Kingdom
GEO:53.787787;-2.244038
X-APPLE-STRUCTURED-LOCATION;VALUE=URI;X-ADDRESS=Manchester Road\, Burnley\,
  Lancashire\, BB11 1BH\, United Kingdom;X-APPLE-RADIUS=100;X-TITLE=Burnley
  Mechanics Theatre:geo:53.787787,-2.244038
END:VEVENT
BEGIN:VTIMEZONE
TZID:Europe/London
X-LIC-LOCATION:Europe/London
BEGIN:STANDARD
DTSTART:20261025T010000
TZOFFSETFROM:+0100
TZOFFSETTO:+0000
TZNAME:GMT
END:STANDARD
END:VTIMEZONE
END:VCALENDAR