BEGIN:VCALENDAR
VERSION:2.0
PRODID:-//wp-events-plugin.com//7.2.3.1//EN
TZID:Europe/London
X-WR-TIMEZONE:Europe/London
BEGIN:VEVENT
UID:58@discoverburnley.co.uk
DTSTART;TZID=Europe/London:20230909T120000
DTEND;TZID=Europe/London:20230909T160000
DTSTAMP:20230829T095726Z
URL:https://discoverburnley.co.uk/whatson/all-saints-church-heritage-open-
 day/
SUMMARY:All Saint’s Church - Heritage Open Day
DESCRIPTION:\nAll Saint's Church will be open on Saturday 9 September. See 
 the memorials\, stained glass windows and more in this tranquil church int
 erior.\n\nBuilt in 1849 All Saints Church has strong links to nearby Gawth
 orpe Hall (also open for free on the same day). Find out about the church'
 s history\, memorials to parishioners and see the stunning window by renow
 ned artist Brian Clarke. All in a lovely church interior with friendly vol
 unteers to welcome you.\n
ATTACH;FMTTYPE=image/jpeg:https://discoverburnley.co.uk/wp-content/uploads
 /2023/08/all_saints_church_hab_clive_spenser_photos_4_500_350_80_s_c1-1.jp
 g
CATEGORIES:Free To Attend,Kids and Families,Museums and Heritage
LOCATION:All Saint’s Church\, Burnley\, Padiham Road\, Burnley\, Lancashi
 re\, BB12 6LG\, United Kingdom
GEO:53.797058;-2.290695
X-APPLE-STRUCTURED-LOCATION;VALUE=URI;X-ADDRESS=Padiham Road\, Burnley\, La
 ncashire\, BB12 6LG\, United Kingdom;X-APPLE-RADIUS=100;X-TITLE=All Saint
 ’s Church\, Burnley:geo:53.797058,-2.290695
END:VEVENT
BEGIN:VTIMEZONE
TZID:Europe/London
X-LIC-LOCATION:Europe/London
BEGIN:DAYLIGHT
DTSTART:20230326T020000
TZOFFSETFROM:+0000
TZOFFSETTO:+0100
TZNAME:BST
END:DAYLIGHT
END:VTIMEZONE
END:VCALENDAR