BEGIN:VCALENDAR
VERSION:2.0
PRODID:-//wp-events-plugin.com//7.2.3.1//EN
TZID:Europe/London
X-WR-TIMEZONE:Europe/London
BEGIN:VEVENT
UID:439@discoverburnley.co.uk
DTSTART;TZID=Europe/London:20250402T193000
DTEND;TZID=Europe/London:20250402T220000
DTSTAMP:20241107T230406Z
URL:https://discoverburnley.co.uk/whatson/aled-jones-full-circle/
SUMMARY:Aled Jones: Full Circle
DESCRIPTION:Prepare to hear Aled Jones as you’ve never heard him before.\
 n\nHe was the boy treble who captivated the world with his angelic voice.
  Selling over seven million albums\, Aled was the original\, classical cro
 ssover star. His recording of Walking in the Air\, from the animated film
  The Snowman\, firmly established him as a household name and he has becom
 e an integral part of the nation's festivities. Equally at home on the cla
 ssical stage\, or starring in musical theatre productions in London West 
 End\, his credits include lead roles in Joseph and the Amazing Technicolou
 r Dreamcoat\, Chitty Chitty Bang Bang and Irving Berlin’s White Christma
 s.\n\nAs a singer\, Aled is in demand globally and has performed in the wo
 rld's most iconic venues\, from London’s Royal Albert Hall to the Sydney
  Opera House. A favourite with the Royal Family\, he even gave a private p
 erformance to King Charles III in Kensington Palace. He is an award-winnin
 g television broadcaster and radio presenter who’s interviewed hundreds 
 of A-List stars over the years. He heads up BBC’s Songs of Praise and h
 is own Saturday and Sunday morning shows on Classic FM. Now\, after 40 yea
 rs in the business\, he’s looking back on a remarkable career with a one
 -man show\, that will feature never-before-heard music\,  tales from the
  decades and for the first time\, his story told in his own words. It's ti
 me to come Full Circle.\n\nMeet &amp\; Greet and VIP tickets are available
 \n\nTickets: £32 Standard | £54 VIP |£74 Meet &amp\; Greet\n\nhttps://b
 urnleymechanics.ticketsolve.com/ticketbooth/shows/873659118
ATTACH;FMTTYPE=image/jpeg:https://discoverburnley.co.uk/wp-content/uploads
 /2024/11/aled-jones-approved-tour-pic-full-circle.-1002x1500-1.jpg
CATEGORIES:Burnley Town Centre,Theatre and Culture
LOCATION:Burnley Mechanics Theatre\, Manchester Road\, Burnley\, Lancashire
 \, BB11 1BH\, United Kingdom
GEO:53.787787;-2.244038
X-APPLE-STRUCTURED-LOCATION;VALUE=URI;X-ADDRESS=Manchester Road\, Burnley\,
  Lancashire\, BB11 1BH\, United Kingdom;X-APPLE-RADIUS=100;X-TITLE=Burnley
  Mechanics Theatre:geo:53.787787,-2.244038
END:VEVENT
BEGIN:VTIMEZONE
TZID:Europe/London
X-LIC-LOCATION:Europe/London
BEGIN:DAYLIGHT
DTSTART:20250330T020000
TZOFFSETFROM:+0000
TZOFFSETTO:+0100
TZNAME:BST
END:DAYLIGHT
END:VTIMEZONE
END:VCALENDAR